BEGIN:VCALENDAR
VERSION:2.0
PRODID:-//Hade Edge Band - ECPv6.15.20//NONSGML v1.0//EN
CALSCALE:GREGORIAN
METHOD:PUBLISH
X-WR-CALNAME:Hade Edge Band
X-ORIGINAL-URL:https://hadeedgeband.co.uk
X-WR-CALDESC:Events for Hade Edge Band
REFRESH-INTERVAL;VALUE=DURATION:PT1H
X-Robots-Tag:noindex
X-PUBLISHED-TTL:PT1H
BEGIN:VTIMEZONE
TZID:UTC
BEGIN:STANDARD
TZOFFSETFROM:+0000
TZOFFSETTO:+0000
TZNAME:UTC
DTSTART:20230101T000000
END:STANDARD
END:VTIMEZONE
BEGIN:VEVENT
DTSTART;TZID=UTC:20251128T190000
DTEND;TZID=UTC:20251128T220000
DTSTAMP:20260421T020712
CREATED:20250214T102035Z
LAST-MODIFIED:20250214T102035Z
UID:3343-1764356400-1764367200@hadeedgeband.co.uk
SUMMARY:Holmfirth Christmas Concert in aid of Christmas Appeal
DESCRIPTION:Friday 28th November will be the date for a Christmas Concert to take place in Holmfirth to raise funds for Holmfirth Food and Toy Bank appeal for Christmas 2025 \nTickets can be obtained from The Civic Box Office. \nHade Edge Band along with a choir will be there to bring on Christmas for all in Holmfirth.
URL:https://hadeedgeband.co.uk/engage/holmfirth-christmas-concert-in-aid-of-christmas-appeal/
LOCATION:Holmfirth Civic Hall
END:VEVENT
BEGIN:VEVENT
DTSTART;TZID=UTC:20251121T173000
DTEND;TZID=UTC:20251123T170000
DTSTAMP:20260421T020712
CREATED:20250214T101812Z
LAST-MODIFIED:20250214T101812Z
UID:3341-1763746200-1763917200@hadeedgeband.co.uk
SUMMARY:NCMM LIGHT UP WEEKEND 2025
DESCRIPTION:The above event takes place at The National Coal Mining Museum Wakefield \nFriday 21st November arrival of Santa \nSaturday 22nd – Light up parade \nSunday 23rd p- two showings of The Snowman \n  \nHade Edge Band will be providing the music throughout the weekend and performing the music for The Snowman film showings
URL:https://hadeedgeband.co.uk/engage/ncmm-light-up-weekend-2025/
LOCATION:National Coal Mining Museum Wakefield\, Middlestown\, Wakefield
END:VEVENT
BEGIN:VEVENT
DTSTART;TZID=UTC:20251109T100000
DTEND;TZID=UTC:20251109T123000
DTSTAMP:20260421T020712
CREATED:20250214T101534Z
LAST-MODIFIED:20250214T101534Z
UID:3339-1762682400-1762691400@hadeedgeband.co.uk
SUMMARY:REMEMBRANCE DAY 2025
DESCRIPTION:Hade Edge Band will lead the annual procession to remember the fallen of two world wars \nThis will take place from Hudd Town Hall to The Parish Church and back after the service
URL:https://hadeedgeband.co.uk/engage/remembrance-day-2025/
LOCATION:Huddersfield Town Centre
END:VEVENT
BEGIN:VEVENT
DTSTART;TZID=UTC:20250712T100000
DTEND;TZID=UTC:20250712T170000
DTSTAMP:20260421T020712
CREATED:20250214T101344Z
LAST-MODIFIED:20250606T133542Z
UID:3337-1752314400-1752339600@hadeedgeband.co.uk
SUMMARY:Durham Miners Gala 2025
DESCRIPTION:Hade Edge Band will once again be attending the annual BIG MEETING in Durham\, supporting the village of Sacriston whose colliery was originally sunk in 1838 and eventually closed down at the end of 1985. \nThe day will start at 8am with the band playing in Sacriston and joining with villagers and the Sacriston Colliery banner. \nThe whole group will then proceed on to the ciy of Durham just 15 mins away for the main Miners Gala where we will then lead our group in a procession through the streets. Upon reaching the County Hotel on Old Elvet\, the band will pause to perform a selected piece and following this\, they continue their march to the Old Racecourse. \nAfter lunch and look around the Gala\, the whole group will then retrace its steps back through the city centre and return back to Sacriston. The final part of the day will be a march from the top of the village back to the Community Centre where we’ll finish the day as hosts of the village.
URL:https://hadeedgeband.co.uk/engage/durham-miners-gala-2025-saturday-12th-july/
LOCATION:Sacriston Village and Durham City Centre
END:VEVENT
BEGIN:VEVENT
DTSTART;TZID=UTC:20250705T130000
DTEND;TZID=UTC:20250705T170000
DTSTAMP:20260421T020712
CREATED:20250214T101208Z
LAST-MODIFIED:20250606T133628Z
UID:3335-1751720400-1751734800@hadeedgeband.co.uk
SUMMARY:Hade Edge Gala July 2025
DESCRIPTION:The village gala takes place on Saturday 5th July from mid-day. \nThe procession to the football field\, led by Hade Edge Band will commence from the bandroom at 1pm. \n 
URL:https://hadeedgeband.co.uk/engage/hade-edge-gala-2025/
END:VEVENT
BEGIN:VEVENT
DTSTART;TZID=UTC:20250628T140000
DTEND;TZID=UTC:20250628T170000
DTSTAMP:20260421T020712
CREATED:20250214T101022Z
LAST-MODIFIED:20250621T152007Z
UID:3332-1751119200-1751130000@hadeedgeband.co.uk
SUMMARY:Carlecotes St Anne's Church Garden Party
DESCRIPTION:Once again the popular event at Carlecotes St Anne’s Church grounds will take place on Saturday June 28th from 2pm. \nHade Edge Band will be providing the entertainment alongside Millhouse Green Male Voice Choir throughout the afternoon.
URL:https://hadeedgeband.co.uk/engage/carlecotes-gardenparty-2025/
LOCATION:Carlecotes Church
END:VEVENT
BEGIN:VEVENT
DTSTART;TZID=UTC:20250621T190000
DTEND;TZID=UTC:20250621T220000
DTSTAMP:20260421T020712
CREATED:20250214T100847Z
LAST-MODIFIED:20250606T133820Z
UID:3330-1750532400-1750543200@hadeedgeband.co.uk
SUMMARY:Brass and Voices Concert with Huddersfield Choral Youth Choirs
DESCRIPTION:A concert featuring Hade Edge Band & Huddersfield Choral Society Youth Choirs\, compered by BBC Radio presenter David Hoyle. \nTickets cost £10 for adults\, £5 for children U16 and are available from: \n\nThongsbridge Bowling Club Facebook page\nE-mailing printing@print-pod.com\nOr in person from The Civic office in Holmfirth\n\nBar and refreshments available throughout the evening.
URL:https://hadeedgeband.co.uk/engage/concert-in-holmfirth-civic-hall-with-hudd-choral-youth-choirs/
LOCATION:Holmfirth Civic Hall
END:VEVENT
BEGIN:VEVENT
DTSTART;TZID=UTC:20250615T120000
DTEND;TZID=UTC:20250615T143000
DTSTAMP:20260421T020712
CREATED:20250214T100459Z
LAST-MODIFIED:20250606T133700Z
UID:3326-1749988800-1749997800@hadeedgeband.co.uk
SUMMARY:Kirkburton Sing 2025
DESCRIPTION:The second year for this event since being back after 55 years! It takes place on Sunday 15th June at Trinity Field which is adjacent to Kirkburton Church. \nHade Edge Band will be providing music for the event alongside the HD8 Voices choir. \n 
URL:https://hadeedgeband.co.uk/engage/kirkburton-sing-2025/
LOCATION:All Hallows Church Kirkburton
END:VEVENT
BEGIN:VEVENT
DTSTART;TZID=UTC:20250517T100000
DTEND;TZID=UTC:20250517T120000
DTSTAMP:20260421T020712
CREATED:20250214T100308Z
LAST-MODIFIED:20250214T100308Z
UID:3324-1747476000-1747483200@hadeedgeband.co.uk
SUMMARY:NCMM Memorial Day
DESCRIPTION:The annual memorial day at The National Coal Mining Museum  Wakefield takes place on Saturday 17th May commencing at 10am \nThose families who had relatives that worked in the Coal Mining industry in Yorkshire can purchase “tokens” to place on the memorial wall. \nPlease contact the NCMM for more details. \nHade Edge Band will be providing the music during the event
URL:https://hadeedgeband.co.uk/engage/ncmm-memorial-day/
LOCATION:National Coal Mining Museum
END:VEVENT
BEGIN:VEVENT
DTSTART;TZID=UTC:20250508T203000
DTEND;TZID=UTC:20250508T220000
DTSTAMP:20260421T020712
CREATED:20250214T100011Z
LAST-MODIFIED:20250214T100011Z
UID:3322-1746736200-1746741600@hadeedgeband.co.uk
SUMMARY:VE Day Celebrations 2025
DESCRIPTION:Cliff Rec Beacon will be the venue for celebrations to mark the 80th anniversary of VE Day. \nEvents will commence from 8:30PM with Hade Edge Band providing the music throughout the event.
URL:https://hadeedgeband.co.uk/engage/ve-day-celebrations-2025/
LOCATION:Holmfirth Cliff Jubilee Beacon\, Cliff Rd\, Holmfirth\, HD9 1UY\, United Kingdom
END:VEVENT
BEGIN:VEVENT
DTSTART;TZID=UTC:20250301T120000
DTEND;TZID=UTC:20250301T170000
DTSTAMP:20260421T020712
CREATED:20250214T095648Z
LAST-MODIFIED:20250214T095648Z
UID:3318-1740830400-1740848400@hadeedgeband.co.uk
SUMMARY:Yorkshire Regional Championships 2025
DESCRIPTION:Hade Edge Band will be competing alongside 10 other Yorkshire Bands in the Second Section of the Championships taking place in Huddersfield Town Hall on Saturday March 1st. \nTickets available direct from the Town Hall box office.
URL:https://hadeedgeband.co.uk/engage/yorkshire-regional-championships-2025/
LOCATION:Huddersfield Town Hall
END:VEVENT
BEGIN:VEVENT
DTSTART;TZID=UTC:20241215T183000
DTEND;TZID=UTC:20241215T193000
DTSTAMP:20260421T020712
CREATED:20240712T075648Z
LAST-MODIFIED:20240712T075648Z
UID:3266-1734287400-1734291000@hadeedgeband.co.uk
SUMMARY:Choppards Mission
DESCRIPTION:A carol service will take place at Choppards Mission with a small group of players from Hade Edge band to assist the service \nSunday 15th December at 6:30pm
URL:https://hadeedgeband.co.uk/engage/choppards-mission/
LOCATION:Choppards Mission
END:VEVENT
BEGIN:VEVENT
DTSTART;TZID=UTC:20241215T140000
DTEND;TZID=UTC:20241215T170000
DTSTAMP:20260421T020712
CREATED:20240712T075507Z
LAST-MODIFIED:20241113T090437Z
UID:3264-1734271200-1734282000@hadeedgeband.co.uk
SUMMARY:Carlecotes Christmas Concert
DESCRIPTION:Hade Edge Band will be part of the Christmas scene in Carlecotes on Sunday 15th December \nChristmas concert in Carlecotes (St. Annes Church) 2pm on Sunday 15th \nAdmission on the door.
URL:https://hadeedgeband.co.uk/engage/carlecotes-christmas-concert/
LOCATION:Carlecotes Church
END:VEVENT
BEGIN:VEVENT
DTSTART;TZID=UTC:20241214T140000
DTEND;TZID=UTC:20241214T170000
DTSTAMP:20260421T020712
CREATED:20240116T133656Z
LAST-MODIFIED:20241113T090055Z
UID:3221-1734184800-1734195600@hadeedgeband.co.uk
SUMMARY:Christmas concert with Marsh Ladies Choir
DESCRIPTION:Hade Edge Band have been invited to join Marsh Ladies Choir at their annual Christmas Concert. \nTo be held in Lindley METHODIST CHURCH.  2.30pm \nTickets on the door.
URL:https://hadeedgeband.co.uk/engage/christmas-concert-with-marsh-ladies-choir/
LOCATION:Lindley Church Huddersfield
END:VEVENT
BEGIN:VEVENT
DTSTART;TZID=UTC:20241201T180000
DTEND;TZID=UTC:20241201T190000
DTSTAMP:20260421T020712
CREATED:20240116T133444Z
LAST-MODIFIED:20240116T133444Z
UID:3218-1733076000-1733079600@hadeedgeband.co.uk
SUMMARY:Christmas events - Light switch on in Netherthong
DESCRIPTION:Sunday 6pm Clothiers Arms Netherthong for the switch on of the village lights
URL:https://hadeedgeband.co.uk/engage/christmas-events-light-switch-on-in-netherthong/
LOCATION:Clothiers Arms Netherthong
END:VEVENT
BEGIN:VEVENT
DTSTART;TZID=UTC:20241201T150000
DTEND;TZID=UTC:20241201T163000
DTSTAMP:20260421T020712
CREATED:20241113T090928Z
LAST-MODIFIED:20241113T090928Z
UID:3306-1733065200-1733070600@hadeedgeband.co.uk
SUMMARY:Beer and Carols Huddersfield
DESCRIPTION:Join the band and the groups from Huddersfield Parish Church on Sunday 1st December from 3pm \nBeer and Carols in the new Parish Church Rec Gardens. \nHuddersfield Parish Church\, Byram Street Huddersfield \n 
URL:https://hadeedgeband.co.uk/engage/beer-and-carols-huddersfield/
LOCATION:HUddersfield Parish Church
END:VEVENT
BEGIN:VEVENT
DTSTART;TZID=UTC:20241122T170000
DTEND;TZID=UTC:20241124T173000
DTSTAMP:20260421T020712
CREATED:20240711T154448Z
LAST-MODIFIED:20241113T090124Z
UID:3261-1732294800-1732469400@hadeedgeband.co.uk
SUMMARY:National Coal Mining Museum Lighting weekend
DESCRIPTION:The band will be entertaining at the National Coal Mining Museum at Wakefield as follows \nFriday 22nd November – from around 5pm as Santa arrives at the Colliery \nSaturday 23rd November – Live performance of The Snowman during the afternoon – SOLD OUT \nSunday 24th November – from around 4pm – lighting procession and entertainment
URL:https://hadeedgeband.co.uk/engage/national-coal-mining-museum-lighting-weekend/
LOCATION:National Coal Mining Museum
END:VEVENT
BEGIN:VEVENT
DTSTART;TZID=UTC:20241110T103000
DTEND;TZID=UTC:20241110T130000
DTSTAMP:20260421T020712
CREATED:20240711T154150Z
LAST-MODIFIED:20240711T154150Z
UID:3259-1731234600-1731243600@hadeedgeband.co.uk
SUMMARY:Remembrance Parade Huddersfield
DESCRIPTION:The annual Remembrance Service which takes place in Huddersfield Town Centre will once again be led by Hade Edge Band \nLeaving the Town Hall to march to St\, Peters Church and return after the service of remembrance.
URL:https://hadeedgeband.co.uk/engage/remembrance-parade-huddersfield/
LOCATION:Huddersfield Town Hall
END:VEVENT
BEGIN:VEVENT
DTSTART;TZID=UTC:20241026T190000
DTEND;TZID=UTC:20241026T220000
DTSTAMP:20260421T020712
CREATED:20240116T133250Z
LAST-MODIFIED:20240116T133250Z
UID:3216-1729969200-1729980000@hadeedgeband.co.uk
SUMMARY:Concert with Skelmanthorpe MVC Kirkburton Church
DESCRIPTION:Hade Edge band will be joining Skelmanthorpe MVC for an evening of entertainment to mark the 70th birthday of Georgina Dickinson \nTo be held in All Hallows Church Kirkburton \nTicket information available nearer the date
URL:https://hadeedgeband.co.uk/engage/concert-with-skelmanthorpe-mvc-kirkburton-church/
LOCATION:All Hallows Church Kirkburton
END:VEVENT
BEGIN:VEVENT
DTSTART;TZID=UTC:20241020T140000
DTEND;TZID=UTC:20241020T150000
DTSTAMP:20260421T020712
CREATED:20240711T153951Z
LAST-MODIFIED:20240711T153951Z
UID:3256-1729432800-1729436400@hadeedgeband.co.uk
SUMMARY:Choppards Mission Appreciation Day event
DESCRIPTION:A small group from Hade Edge Band will be playing at Choppards Appreciation Day \nTakes place on Sunday 20th October \nBand will be playing during the afternoon for about 30 mins.
URL:https://hadeedgeband.co.uk/engage/choppards-mission-appreciation-day-event/
LOCATION:Choppards Mission
END:VEVENT
BEGIN:VEVENT
DTSTART;TZID=UTC:20241012T190000
DTEND;TZID=UTC:20241012T210000
DTSTAMP:20260421T020712
CREATED:20240116T133030Z
LAST-MODIFIED:20240116T133030Z
UID:3213-1728759600-1728766800@hadeedgeband.co.uk
SUMMARY:Bavarian Night - Private booking
DESCRIPTION:Meltham Golf Club dinner Saturday 12th October in the evening
URL:https://hadeedgeband.co.uk/engage/bavarian-night-private-booking/
LOCATION:Meltham Golf Club
END:VEVENT
BEGIN:VEVENT
DTSTART;TZID=UTC:20241012T120000
DTEND;TZID=UTC:20241012T170000
DTSTAMP:20260421T020712
CREATED:20240711T153759Z
LAST-MODIFIED:20240711T153759Z
UID:3254-1728734400-1728752400@hadeedgeband.co.uk
SUMMARY:Rochdale Contest
DESCRIPTION:Hade Edge Band have entertained the Rochdale Contest \nTakes place at Wardle High School on Saturday 12th October
URL:https://hadeedgeband.co.uk/engage/rochdale-contest-2/
LOCATION:Wardle High School
END:VEVENT
BEGIN:VEVENT
DTSTART;TZID=UTC:20240929T100000
DTEND;TZID=UTC:20240929T200000
DTSTAMP:20260421T020712
CREATED:20240711T153523Z
LAST-MODIFIED:20240711T153635Z
UID:3248-1727604000-1727640000@hadeedgeband.co.uk
SUMMARY:Red Admiral Entertainment Contest
DESCRIPTION:Hade Edge Band will be taking part in the inaugural Red Admiral Entertainment Contest \nTakes place on Sunday 29th September from 10am at Chorley \nThere are 18 bands in the Champ/First Section which commences at 10am and concludes at approx 8pm
URL:https://hadeedgeband.co.uk/engage/red-admiral-entertainment-contest/
LOCATION:Chorley School
END:VEVENT
BEGIN:VEVENT
DTSTART;TZID=UTC:20240720T113000
DTEND;TZID=UTC:20240720T160000
DTSTAMP:20260421T020712
CREATED:20240522T135932Z
LAST-MODIFIED:20240522T135932Z
UID:3230-1721475000-1721491200@hadeedgeband.co.uk
SUMMARY:Brass bands in the Colliery
DESCRIPTION:Hade Edge Band will be playing at the National Coal Mining Museum throughout the day from 1130am  on Saturday 20th July 2024 \nNational Coal Mining Museum Wakefield
URL:https://hadeedgeband.co.uk/engage/brass-bands-in-the-colliery/
LOCATION:National Coal Mining Museum Wakefield\, Middlestown\, Wakefield
END:VEVENT
BEGIN:VEVENT
DTSTART;TZID=UTC:20240713T080000
DTEND;TZID=UTC:20240713T170000
DTSTAMP:20260421T020712
CREATED:20240116T124419Z
LAST-MODIFIED:20240116T124419Z
UID:3208-1720857600-1720890000@hadeedgeband.co.uk
SUMMARY:Durham Miners Gala 2024
DESCRIPTION:This takes place on Saturday July 13th in Durham City centre. \nHade Edge Band will once again be leading the banner from the village of Sacriston. \n 
URL:https://hadeedgeband.co.uk/engage/durham-miners-gala-2024/
LOCATION:Sacriston Village and Durham City Centre
END:VEVENT
BEGIN:VEVENT
DTSTART;TZID=UTC:20240706T120000
DTEND;TZID=UTC:20240706T170000
DTSTAMP:20260421T020712
CREATED:20240116T124257Z
LAST-MODIFIED:20240116T124257Z
UID:3206-1720267200-1720285200@hadeedgeband.co.uk
SUMMARY:Hade Edge Gala 2024 event
DESCRIPTION:hade Edge Gala takes place on Saturday 6th July from midday. \nProcession leaving the bandroom at 12noon for the football field \nHade Edge Band will be providing the music for the procession and a concert on the field. \n 
URL:https://hadeedgeband.co.uk/engage/hade-edge-gala-2024-event/
LOCATION:Hade Edge Village
END:VEVENT
BEGIN:VEVENT
DTSTART;TZID=UTC:20240622T140000
DTEND;TZID=UTC:20240622T170000
DTSTAMP:20260421T020712
CREATED:20240116T124015Z
LAST-MODIFIED:20240116T124015Z
UID:3204-1719064800-1719075600@hadeedgeband.co.uk
SUMMARY:Carlecotes Church Garden Party
DESCRIPTION:Hade Edge Band will be providing the afternoons entertainment at the annual Carlecotes Garden party \nTickets can be obtained in advance from early June \nSaturday 22nd June f rom 2pm Carlecotes Church grounds
URL:https://hadeedgeband.co.uk/engage/carlecotes-church-garden-party/
LOCATION:Carlecotes Church
END:VEVENT
BEGIN:VEVENT
DTSTART;TZID=UTC:20240607T190000
DTEND;TZID=UTC:20240607T220000
DTSTAMP:20260421T020712
CREATED:20240116T123806Z
LAST-MODIFIED:20240116T123806Z
UID:3202-1717786800-1717797600@hadeedgeband.co.uk
SUMMARY:Concert with Huddersfield Choral Youth Choirs 2024
DESCRIPTION:The concert with Hade Edge Band and the choirs from Huddersfield Choral Youth will join together to present an evening of entertainment \nHolmfirth Civic \nFriday 7th June  7pm \nTickets can be obtained in advance from the band or the Civic Hall
URL:https://hadeedgeband.co.uk/engage/concert-with-huddersfield-choral-youth-choirs-2024/
LOCATION:Holmfirth Civic Hall
END:VEVENT
BEGIN:VEVENT
DTSTART;TZID=UTC:20240606T200000
DTEND;TZID=UTC:20240606T220000
DTSTAMP:20260421T020712
CREATED:20240116T123608Z
LAST-MODIFIED:20240116T123608Z
UID:3200-1717704000-1717711200@hadeedgeband.co.uk
SUMMARY:D- Day 80th year Celebrations Cliff Rec Holmfirth
DESCRIPTION:There will be an event taking place at Cliff Rec to celebrate the 80th anniversary of D-Day. \nEvent will commence around 8pm with the beacon being lit around 915pm \nHade Edge Band will be providing the music entertainment during the evening
URL:https://hadeedgeband.co.uk/engage/d-day-80th-year-celebrations-cliff-rec-holmfirth/
LOCATION:Holmfirth Cliff Jubilee Beacon\, Cliff Rd\, Holmfirth\, HD9 1UY\, United Kingdom
END:VEVENT
BEGIN:VEVENT
DTSTART;TZID=UTC:20240428T100000
DTEND;TZID=UTC:20240428T170000
DTSTAMP:20260421T020712
CREATED:20240116T123407Z
LAST-MODIFIED:20240116T123407Z
UID:3198-1714298400-1714323600@hadeedgeband.co.uk
SUMMARY:Holme Valley Brass Band Contest - 2024
DESCRIPTION:Hade Edge Band will be competing in the Holme Valley Contest which takes place on Sunday 28th April from 10am \nThe Civic Holmfirth \nTickets on the door
URL:https://hadeedgeband.co.uk/engage/holme-valley-brass-band-contest-2024/
LOCATION:Holmfirth Civic Hall
END:VEVENT
END:VCALENDAR