BEGIN:VCALENDAR
VERSION:2.0
PRODID:-//Hade Edge Band - ECPv6.15.20//NONSGML v1.0//EN
CALSCALE:GREGORIAN
METHOD:PUBLISH
X-ORIGINAL-URL:https://hadeedgeband.co.uk
X-WR-CALDESC:Events for Hade Edge Band
REFRESH-INTERVAL;VALUE=DURATION:PT1H
X-Robots-Tag:noindex
X-PUBLISHED-TTL:PT1H
BEGIN:VTIMEZONE
TZID:UTC
BEGIN:STANDARD
TZOFFSETFROM:+0000
TZOFFSETTO:+0000
TZNAME:UTC
DTSTART:20180101T000000
END:STANDARD
END:VTIMEZONE
BEGIN:VEVENT
DTSTART;TZID=UTC:20201206T150000
DTEND;TZID=UTC:20201206T173000
DTSTAMP:20260423T210626
CREATED:20200113T192034Z
LAST-MODIFIED:20201206T085616Z
UID:2448-1607266800-1607275800@hadeedgeband.co.uk
SUMMARY:Concert with Vocal Expression Choir   CANCELLED
DESCRIPTION:Christmas Concert with Vocal Expression Choir \n  \nSunday 6th December at 3pm in Holmebridge Parish Hall \n  \nFurther details to follow
URL:https://hadeedgeband.co.uk/engage/concert-with-vocal-expression-choir/
END:VEVENT
BEGIN:VEVENT
DTSTART;TZID=UTC:20201108T090000
DTEND;TZID=UTC:20201108T130000
DTSTAMP:20260423T210626
CREATED:20200113T191911Z
LAST-MODIFIED:20200908T153534Z
UID:2446-1604826000-1604840400@hadeedgeband.co.uk
SUMMARY:Remembrance Day - UPDATE
DESCRIPTION:Hade Edge Band will be leading the town’s procession to mark this occasion. \nHuddersfield Town Hall to Parish Church and return. \n  \nSunday 8th November from 1030am \n  \nTHIS EVENT IS PLANNED TO TAKE PLACE ON THE BAOVE DATE\, HOWEVER IT IS UNLIKLEY THAT THERE WILL BE A PARADE THIS YEAR FROM THE TOWN HALL TO ST. PETERS CHURCH. A CHURCH SERVICE IS LIKELY TO TAKE PLACE WITH A LIMITED NUMBER OF PEOPLE INSIDE THE CHURCH AND THE REMAINDER OUTSIDE IN THE CHRUCH GARDENS. THE SERVICE WILL BE RELAYED TO OUTSIDE. IT IS EXPECTED THAT THE BAND WILL PLAY IN THE CHURCH GARDENS.
URL:https://hadeedgeband.co.uk/engage/remembrance-day/
END:VEVENT
BEGIN:VEVENT
DTSTART;TZID=UTC:20201107T190000
DTEND;TZID=UTC:20201107T220000
DTSTAMP:20260423T210626
CREATED:20200113T191751Z
LAST-MODIFIED:20200818T145702Z
UID:2444-1604775600-1604786400@hadeedgeband.co.uk
SUMMARY:Concert  with  BOLSTERSTONE M V C -  CANCELLED UNTIL 2021
DESCRIPTION:This year the band is very pleased to join with the choir to celebrate and mark two occasions. \nRemembrance weekend celebrations and also remembering the tragic coach disaster of 1947 involving the choir \nMore info to follow in due course. \n  \nConcert will be held in Holmfirth Parish Church \nDUE TO THE CONTINUING ISSUES WITH COVID-19 THE ABOVE CONCERT HAS BEEN CANCELLED AND THE AIM IS TO REBOOK IT FOR NOV 2021. \n  \n  \n  \n  \n 
URL:https://hadeedgeband.co.uk/engage/concert-with-bolsterstone-m-v-c/
END:VEVENT
BEGIN:VEVENT
DTSTART;TZID=UTC:20201031T190000
DTEND;TZID=UTC:20201031T220000
DTSTAMP:20260423T210626
CREATED:20200113T190116Z
LAST-MODIFIED:20200825T182903Z
UID:2440-1604170800-1604181600@hadeedgeband.co.uk
SUMMARY:Proms 2020   CANCELLED
DESCRIPTION:Holmfirth Civic Hall will once again be resounding to the music from the Proms on Saturday 31st October \n  \nArranged by the Friends of Holme Valley Hospital \nChoir to be announced \n  \nTickets sales to be announced in due course. \n  \nDUE TO COVID-19 THIS CONCERT HAS BEEN CANCELLED FOR 2020.
URL:https://hadeedgeband.co.uk/engage/proms-2020/
END:VEVENT
BEGIN:VEVENT
DTSTART;TZID=UTC:20201025T200000
DTEND;TZID=UTC:20201025T220000
DTSTAMP:20260423T210626
CREATED:20200124T094226Z
LAST-MODIFIED:20200902T142740Z
UID:2474-1603656000-1603663200@hadeedgeband.co.uk
SUMMARY:UNITE BAND CLUB SHEFFIELD - CANCELLED
DESCRIPTION:Hade Edge Band will hold an evening concert at the Niagra Club Sheffield- home of Unite the Union Band \n  \nSunday 25th October at 8pm \nUNITE THE UNION BAND HAVE ADVISED US THAT THEY WILL NOT BE GOING AHEAD WITH THEIR SEASON OF CONCERTS AT THE NIAGRA CLUB. \nHOPEFULLY RETURNING IN 2021. \n 
URL:https://hadeedgeband.co.uk/engage/niagra-club-sheffield/
END:VEVENT
BEGIN:VEVENT
DTSTART;TZID=UTC:20201011T100000
DTEND;TZID=UTC:20201011T170000
DTSTAMP:20260423T210626
CREATED:20200128T144223Z
LAST-MODIFIED:20200526T160324Z
UID:2482-1602410400-1602435600@hadeedgeband.co.uk
SUMMARY:Pogson Bray Entertainment Contest - CANCELLED
DESCRIPTION:Pogson Bray Contest will take place on Sunday 11th October at Berties Banqueting Suites\, Elland (All day event from 10am) \nHade Edge Senior Band and Hade Edge B Band will be performing in their respective categories.
URL:https://hadeedgeband.co.uk/engage/pogson-bray-entertainment-contest-3/
END:VEVENT
BEGIN:VEVENT
DTSTART;TZID=UTC:20201010T190000
DTEND;TZID=UTC:20201010T220000
DTSTAMP:20260423T210626
CREATED:20200113T185939Z
LAST-MODIFIED:20200825T182819Z
UID:2438-1602356400-1602367200@hadeedgeband.co.uk
SUMMARY:Concert at St. Helens Church Wakefield -    CANCELLED.
DESCRIPTION:Following the success of last years concert at this venue\, the band will be taking to the stage again in 2020 \nSt. Helens Church . Sandal. Wakefield. \nSaturday October 10th \n  \nDue to Covid-19 this concert has been cancelled for 2020.
URL:https://hadeedgeband.co.uk/engage/concert-at-st-helens-church-wakefield/
END:VEVENT
BEGIN:VEVENT
DTSTART;TZID=UTC:20201002T193000
DTEND;TZID=UTC:20201002T213000
DTSTAMP:20260423T210626
CREATED:20200220T143829Z
LAST-MODIFIED:20200809T122542Z
UID:2491-1601667000-1601674200@hadeedgeband.co.uk
SUMMARY:Thongsbridge Bowling Club Concert - CANCELLED
DESCRIPTION:Hade Edge Band\, along with a Choir (TBA) will be performing an evening concert in Holmfirth Civic Hall on Friday 2nd October 2020 \nIn aid of funds to improve the facilities at Thongsbridge Bowling Club. Holmfirth. \nEvening concert. \nFurther details to be announced. \nTHE ABOVE CONCERT HAS BEEN CANCELLED FOR 2020. IT IS HOPED TO ARRANGE A CONCERT IN 2021.
URL:https://hadeedgeband.co.uk/engage/thongsbridge-bowling-club-concert/
END:VEVENT
BEGIN:VEVENT
DTSTART;TZID=UTC:20200920T140000
DTEND;TZID=UTC:20200920T163000
DTSTAMP:20260423T210626
CREATED:20200124T093947Z
LAST-MODIFIED:20200815T075723Z
UID:2470-1600610400-1600619400@hadeedgeband.co.uk
SUMMARY:GREENHEAD PARK CONCERT - NOW CANCELLED FOR 2020
DESCRIPTION:Hade Edge Band will once again be entertaining the visitors to Greenhead Park. \nSunday JUNE 7th in the Band stand in Greenhead Park from 2pm \nCONCERT MAY TAKE PLACE IN SEPTEMEBR \nPLANS ARE NOW FOR THIS TO TAKE PLACE ON SUNDAY 20TH SEPTEMBER AT 2PM \nDUE TO FURTHER COVID-19 RESTRICTIONS WITHIN KIRKLEES – THE ABOVE HAS BEEN CANCELLED FOR 2020 \n 
URL:https://hadeedgeband.co.uk/engage/greenhead-park-concert/
END:VEVENT
BEGIN:VEVENT
DTSTART;TZID=UTC:20200919T190000
DTEND;TZID=UTC:20200919T220000
DTSTAMP:20260423T210626
CREATED:20200124T093809Z
LAST-MODIFIED:20200705T080559Z
UID:2468-1600542000-1600552800@hadeedgeband.co.uk
SUMMARY:Proms Concert in Shelley Church - POSTPONED UNTIL 2021 - NEW DATE 11th SEPT 2021
DESCRIPTION:Proms concert to take place in Shelley Church on Saturday 19th September with choir. \nMore details to follow \nPROMS CONCERT WITH SKELMANTHORPE MALE VOICE CHOIR POSTPONED UNTIL SEPT 2021.
URL:https://hadeedgeband.co.uk/engage/proms-concert-in-shelley-church/
END:VEVENT
BEGIN:VEVENT
DTSTART;TZID=UTC:20200913T140000
DTEND;TZID=UTC:20200913T160000
DTSTAMP:20260423T210626
CREATED:20200113T185759Z
LAST-MODIFIED:20200908T153314Z
UID:2436-1600005600-1600012800@hadeedgeband.co.uk
SUMMARY:Wetherby Band Stand - CANCELLED
DESCRIPTION:Sunday September 13th is our 2020 booking at the Wetherby Band Stand \nConcert from 2pm to 4ppm \nTHIS EVENT HAS BEEN CANCELLED DUE TO COVID-19 RESTRICTIONS WHICH WILL NOT ALLOW THE TRUST TO HOLD EVENTS IN THE BANDSTAND \n  \n 
URL:https://hadeedgeband.co.uk/engage/wetherby-band-stand/
END:VEVENT
BEGIN:VEVENT
DTSTART;TZID=UTC:20200705T123000
DTEND;TZID=UTC:20200705T183000
DTSTAMP:20260423T210626
CREATED:20200119T163344Z
LAST-MODIFIED:20200514T171544Z
UID:2463-1593952200-1593973800@hadeedgeband.co.uk
SUMMARY:Brighouse March & hymn Contest 2020 - CANCELLED
DESCRIPTION:Hade Edge Band will be entering the Brighouse Hymn and March contest which takes place in Brighouse Town Centre on Sunday July 5th from 12 noon. \n  \n  \n 
URL:https://hadeedgeband.co.uk/engage/brighouse-march-hymn-contest-2020/
END:VEVENT
BEGIN:VEVENT
DTSTART;TZID=UTC:20200621T153000
DTEND;TZID=UTC:20200621T180000
DTSTAMP:20260423T210626
CREATED:20200119T163709Z
LAST-MODIFIED:20200506T121906Z
UID:2465-1592753400-1592762400@hadeedgeband.co.uk
SUMMARY:Morley March & Hymn Contest 2020 - CANCELLED
DESCRIPTION:Hade Edge Band are planning to enter the Morley Contest in 2020 which takes place in Morley Town Centre in the afternoon of the 21st June 2020. \nTHIS EVENT IS CANCELLED
URL:https://hadeedgeband.co.uk/engage/morley-march-hymn-contest-2020/
END:VEVENT
BEGIN:VEVENT
DTSTART;TZID=UTC:20200620T140000
DTEND;TZID=UTC:20200620T170000
DTSTAMP:20260423T210626
CREATED:20200113T185328Z
LAST-MODIFIED:20200514T171522Z
UID:2430-1592661600-1592672400@hadeedgeband.co.uk
SUMMARY:Carlecotes Garden Party - CANCELLED
DESCRIPTION:Our annual gathering at Carlecotes for their traditional Garden Party will take place on Saturday June 20th this year. \n  \nFurther details and how to obtain tickets will be announced in due course.
URL:https://hadeedgeband.co.uk/engage/carlecotes-garden-party-2/
END:VEVENT
BEGIN:VEVENT
DTSTART;TZID=UTC:20200510T140000
DTEND;TZID=UTC:20200510T160000
DTSTAMP:20260423T210626
CREATED:20200113T185120Z
LAST-MODIFIED:20200502T102452Z
UID:2426-1589119200-1589126400@hadeedgeband.co.uk
SUMMARY:Afternoon Concert in Slaithwaite Band Room - CANCELLED
DESCRIPTION:Finally we have arrived at our long standing booking with Slaithwaite Band and their band room concert programme \n  \nSunday 10th May from 2pm at Slaithwaite Band Room. \n 
URL:https://hadeedgeband.co.uk/engage/afternoon-concert-in-slaithwaite-band-room/
END:VEVENT
BEGIN:VEVENT
DTSTART;TZID=UTC:20200307T123000
DTEND;TZID=UTC:20200307T163000
DTSTAMP:20260423T210626
CREATED:20200113T184155Z
LAST-MODIFIED:20200113T184155Z
UID:2418-1583584200-1583598600@hadeedgeband.co.uk
SUMMARY:Yorkshire Regional Championships 2020
DESCRIPTION:Hade Edge Band will be competing in the Second Section of the Yorkshire regional Championships which will take place on Saturday 7th March \nHuddersfield Town Hall from 1230pm. There are 9 bands in total competing for the title of Yorkshire Champions 2020. \nTickets are now on sale through Kirklees Town Halls Box Office or on-line at www.kirkleestownhalls.co.uk \n 
URL:https://hadeedgeband.co.uk/engage/yorkshire-regional-championships-2020/
END:VEVENT
BEGIN:VEVENT
DTSTART;TZID=UTC:20200229T190000
DTEND;TZID=UTC:20200229T220000
DTSTAMP:20260423T210626
CREATED:20200113T165043Z
LAST-MODIFIED:20200113T165043Z
UID:2416-1583002800-1583013600@hadeedgeband.co.uk
SUMMARY:Saturday 29th February 2020 - Pre - area concert/contest
DESCRIPTION:Hade Edge Band are taking part in a pre-area contest which is being hosted by Hammonds Saltaire Band. \nvenue is St. Mary’s Church Mirfield on Saturday February 29th from 7pm \nThere will be a Fourth section band/Third section band/Hade Edge band for the second section/ a First section band and Hammonds Band for the Championship \nEach band will play their section Test Piece. \nNo tickets required – just turn up and enjoy the evening. (Bar available)
URL:https://hadeedgeband.co.uk/engage/saturday-29th-february-2020-pre-area-concert-contest/
END:VEVENT
BEGIN:VEVENT
DTSTART;TZID=UTC:20200128T080000
DTEND;TZID=UTC:20200128T170000
DTSTAMP:20260423T210626
CREATED:20200128T144020Z
LAST-MODIFIED:20200128T144020Z
UID:2480-1580198400-1580230800@hadeedgeband.co.uk
SUMMARY:Pre- area Run through Rehearsal
DESCRIPTION:Huddersfield Town Hall 2pm – 4pm on Sunday 1st March \nALL PLAYERS TO ATTEND..\nPercussion equipment will be available through Hammonds Saltaire Band
URL:https://hadeedgeband.co.uk/engage/pre-area-run-through-rehearsal/
END:VEVENT
BEGIN:VEVENT
DTSTART;TZID=UTC:20200119T080000
DTEND;TZID=UTC:20200119T170000
DTSTAMP:20260423T210626
CREATED:20200119T163121Z
LAST-MODIFIED:20200119T163121Z
UID:2461-1579420800-1579453200@hadeedgeband.co.uk
SUMMARY:Morley March Contest
DESCRIPTION:Hade Edge Band are planning to enter the Morley march and Hymn Contest in 2020 for the first time in a good number of year. \nPerformances takes place from 1pm on Sunday 21st June in Morley Town centre
URL:https://hadeedgeband.co.uk/engage/morley-march-contest/
END:VEVENT
BEGIN:VEVENT
DTSTART;TZID=UTC:20191219T210000
DTEND;TZID=UTC:20191219T220000
DTSTAMP:20260423T210626
CREATED:20190912T082417Z
LAST-MODIFIED:20190912T082417Z
UID:2279-1576789200-1576792800@hadeedgeband.co.uk
SUMMARY:Hade Edge Band and Holme Valley Masonic
DESCRIPTION:A small group of players will be playing carols for the Holme Valley Masonic Christmas celebrations (private function)
URL:https://hadeedgeband.co.uk/engage/hade-edge-band-and-holme-valley-masonic/
END:VEVENT
BEGIN:VEVENT
DTSTART;TZID=UTC:20191217T193000
DTEND;TZID=UTC:20191217T213000
DTSTAMP:20260423T210626
CREATED:20190912T082258Z
LAST-MODIFIED:20190912T082258Z
UID:2277-1576611000-1576618200@hadeedgeband.co.uk
SUMMARY:HADE EDGE VILLAGE CHRISTMAS CONCERT - TUESDAY 17TH DECEMBER
DESCRIPTION:FREE CONCERT – OPEN TO EVERYONE ESPECIALLY THE VILLAGERS OF HADE EDGE. \nTHE CONCERT WILL BE IN THE BANDROOM \nCOMMENCING AT 730PM \nTRAINER BAND + B BAND + SENIOR BAND WILL BE PERFORMING \n  \nALL VILLAGERS OF HADE EDGE VERY WELCOME TO COME ALONG AND SSEE WHAT A JEWEL YOU HAVE IN YOUR VILLAGE.
URL:https://hadeedgeband.co.uk/engage/hade-edge-village-christmas-concert-tuesday-17th-december/
END:VEVENT
BEGIN:VEVENT
DTSTART;TZID=UTC:20191215T140000
DTEND;TZID=UTC:20191215T163000
DTSTAMP:20260423T210626
CREATED:20190912T082018Z
LAST-MODIFIED:20190912T082018Z
UID:2275-1576418400-1576427400@hadeedgeband.co.uk
SUMMARY:Carlecotes Christmas Concert - Sunday 15th December
DESCRIPTION:Hade Edge Band will be in concert for Christmas at St. Annes Church Carlecotes on Sunday 15th December \nConcert commences at 2PM \n 
URL:https://hadeedgeband.co.uk/engage/carlecotes-christmas-concert-sunday-15th-december/
END:VEVENT
BEGIN:VEVENT
DTSTART;TZID=UTC:20191214T190000
DTEND;TZID=UTC:20191214T220000
DTSTAMP:20260423T210626
CREATED:20190912T081854Z
LAST-MODIFIED:20191108T155323Z
UID:2273-1576350000-1576360800@hadeedgeband.co.uk
SUMMARY:Hade Edge Band Christmas Concert - SATURDAY 14TH DECEMBER
DESCRIPTION:Hade Edge Band will be holding their annual Christmas Concert on Saturday 14th December in Holmfirth Parish Church \ncommencing at 7pm. \nTickets can be obtained in advance from the band or pay on the door. \n  \nTICKETS NOW ON SALE AND CAN BE OBTAINED IN ADVANCE FROM ROBERT ON 07512 600602
URL:https://hadeedgeband.co.uk/engage/hade-edge-band-christmas-concert-saturday-14th-december/
END:VEVENT
BEGIN:VEVENT
DTSTART;TZID=UTC:20191213T180000
DTEND;TZID=UTC:20191213T190000
DTSTAMP:20260423T210626
CREATED:20190912T081710Z
LAST-MODIFIED:20190912T081710Z
UID:2271-1576260000-1576263600@hadeedgeband.co.uk
SUMMARY:Christmas Lights switch on in Holme
DESCRIPTION:Hade Edge Band will switch on the Christmas lights at The Fleece\, Holme on Friday 13th December
URL:https://hadeedgeband.co.uk/engage/christmas-lights-switch-on-in-holme/
END:VEVENT
BEGIN:VEVENT
DTSTART;TZID=UTC:20191208T130000
DTEND;TZID=UTC:20191208T163000
DTSTAMP:20260423T210626
CREATED:20190912T081551Z
LAST-MODIFIED:20190912T081551Z
UID:2269-1575810000-1575822600@hadeedgeband.co.uk
SUMMARY:Harewood House Christmas Lights
DESCRIPTION:Hade Edge Band ( small group) will be playing carols to entertain the visitors during the Christmas festivities at Harewood House.
URL:https://hadeedgeband.co.uk/engage/harewood-house-christmas-lights/
END:VEVENT
BEGIN:VEVENT
DTSTART;TZID=UTC:20191206T190000
DTEND;TZID=UTC:20191206T220000
DTSTAMP:20260423T210626
CREATED:20190510T133312Z
LAST-MODIFIED:20190510T133312Z
UID:2235-1575658800-1575669600@hadeedgeband.co.uk
SUMMARY:Christmas Concert with Horbury Singers
DESCRIPTION:Once again the band will be joining with Horbury Singers for the start of the Christmas celebrations on Friday 6th December. This year in Ossett Town Hall
URL:https://hadeedgeband.co.uk/engage/christmas-concert-with-horbury-singers/
END:VEVENT
BEGIN:VEVENT
DTSTART;TZID=UTC:20191201T180000
DTEND;TZID=UTC:20191201T190000
DTSTAMP:20260423T210626
CREATED:20190912T081410Z
LAST-MODIFIED:20190912T081410Z
UID:2267-1575223200-1575226800@hadeedgeband.co.uk
SUMMARY:Christmas Lights switch-on - NETHERTHONG
DESCRIPTION:Hade Edge Band will perform the switch on of the Christmas Lights at the Clothiers Arms Netherthong at 6pm on Sunday 1st December
URL:https://hadeedgeband.co.uk/engage/christmas-lights-switch-on-netherthong/
END:VEVENT
BEGIN:VEVENT
DTSTART;TZID=UTC:20191201T090000
DTEND;TZID=UTC:20191224T170000
DTSTAMP:20260423T210626
CREATED:20190912T082608Z
LAST-MODIFIED:20190912T082608Z
UID:2281-1575190800-1577206800@hadeedgeband.co.uk
SUMMARY:CHRISTMAS BUSKING DECEMBER 2019
DESCRIPTION:The band will be playing carols at various locations throughout the month of December \nMeadowhall/Morrisons/M&S etc. \n 
URL:https://hadeedgeband.co.uk/engage/christmas-busking-december-2019/
END:VEVENT
BEGIN:VEVENT
DTSTART;TZID=UTC:20191124T090000
DTEND;TZID=UTC:20191124T150000
DTSTAMP:20260423T210626
CREATED:20190912T081220Z
LAST-MODIFIED:20190912T081220Z
UID:2265-1574586000-1574607600@hadeedgeband.co.uk
SUMMARY:LEICESTER CONTEST - NOVEMBER 2019
DESCRIPTION:Hade Edge Band will be competing in the 2nd Section of the Leicester Contest on Sunday 242th November. \nThe event takes place at Loughborough College.
URL:https://hadeedgeband.co.uk/engage/leicester-contest-november-2019/
END:VEVENT
BEGIN:VEVENT
DTSTART;TZID=UTC:20191110T093000
DTEND;TZID=UTC:20191110T123000
DTSTAMP:20260423T210626
CREATED:20190912T081037Z
LAST-MODIFIED:20190912T081037Z
UID:2262-1573378200-1573389000@hadeedgeband.co.uk
SUMMARY:REMEMBRANCE SUNDAY - 10TH NOVEMBER 2019
DESCRIPTION:Once again Hade Edge Band have been invited to lead the procession through Huddersfield on Remembrance Sunday \nThe parade will start from the Town Hall and finish at the Parish Church \nA service will take place in the Church and then the parade will return back to the Town Hall where the Mayor of Kirklees will make a speech. \nBand members to meet at 930am.
URL:https://hadeedgeband.co.uk/engage/remembrance-sunday-10th-november-2019/
END:VEVENT
END:VCALENDAR