BEGIN:VCALENDAR
VERSION:2.0
PRODID:-//Hade Edge Band - ECPv6.15.20//NONSGML v1.0//EN
CALSCALE:GREGORIAN
METHOD:PUBLISH
X-ORIGINAL-URL:https://hadeedgeband.co.uk
X-WR-CALDESC:Events for Hade Edge Band
REFRESH-INTERVAL;VALUE=DURATION:PT1H
X-Robots-Tag:noindex
X-PUBLISHED-TTL:PT1H
BEGIN:VTIMEZONE
TZID:UTC
BEGIN:STANDARD
TZOFFSETFROM:+0000
TZOFFSETTO:+0000
TZNAME:UTC
DTSTART:20170101T000000
END:STANDARD
END:VTIMEZONE
BEGIN:VEVENT
DTSTART;TZID=UTC:20181215T183000
DTEND;TZID=UTC:20181215T213000
DTSTAMP:20260424T084125
CREATED:20181116T094307Z
LAST-MODIFIED:20181116T110116Z
UID:2092-1544898600-1544909400@hadeedgeband.co.uk
SUMMARY:Christmas at Carlecotes Church
DESCRIPTION:Hade Edge Band will be holding a Christmas Concert in Carlecotes Church on Saturday 15th December at 630pm \nTickets can be obtained through Robert on 07512 600602. \nIt is recommended that you book tickets for this concert as the Church has a limited amount of space available. \n 
URL:https://hadeedgeband.co.uk/engage/christmas-at-carlecotes-church/
END:VEVENT
BEGIN:VEVENT
DTSTART;TZID=UTC:20181214T180000
DTEND;TZID=UTC:20181214T190000
DTSTAMP:20260424T084125
CREATED:20181116T094120Z
LAST-MODIFIED:20181116T110228Z
UID:2090-1544810400-1544814000@hadeedgeband.co.uk
SUMMARY:Fleece Inn Holme - Christmas Lights Switch on
DESCRIPTION:Hade Edge players will be helping the festivities in Holme on Friday 14th December when the switch on the lights at The Fleece In . \nCome along for a sing song and a pint from 6pm
URL:https://hadeedgeband.co.uk/engage/fleece-inn-holme-christmas-lights-switch-on/
END:VEVENT
BEGIN:VEVENT
DTSTART;TZID=UTC:20181209T130000
DTEND;TZID=UTC:20181209T160000
DTSTAMP:20260424T084125
CREATED:20181116T093650Z
LAST-MODIFIED:20181116T110423Z
UID:2084-1544360400-1544371200@hadeedgeband.co.uk
SUMMARY:Harewood House - Sunday 9th December
DESCRIPTION:A small group of Hade Edge Band players will be entertaining the visitors to Christmas at Harewood House on Sunday 9th December from 1pm to 4pm \n 
URL:https://hadeedgeband.co.uk/engage/harewood-house-sunday-9th-december/
END:VEVENT
BEGIN:VEVENT
DTSTART;TZID=UTC:20181208T090000
DTEND;TZID=UTC:20181208T170000
DTSTAMP:20260424T084125
CREATED:20181116T093540Z
LAST-MODIFIED:20181116T110311Z
UID:2082-1544259600-1544288400@hadeedgeband.co.uk
SUMMARY:BUSKING AT MEADOWHALL SHOPPING CENTRE- Sat 8th December
DESCRIPTION:The band will be busking once again at Meadowhall Shopping Centre Sheffield on Saturday 8th December from 10am \nPlease come along and say “hello”
URL:https://hadeedgeband.co.uk/engage/busking-at-meadowhall-shopping-centre-sat-8th-december/
END:VEVENT
BEGIN:VEVENT
DTSTART;TZID=UTC:20181207T190000
DTEND;TZID=UTC:20181207T220000
DTSTAMP:20260424T084125
CREATED:20180513T185249Z
LAST-MODIFIED:20181106T185642Z
UID:1775-1544209200-1544220000@hadeedgeband.co.uk
SUMMARY:Concert with Horbury Singers
DESCRIPTION:Hade Edge Band will be performing as guests of Horbury Singers on Friday 7th December in Sth. Ossett Church. 7pm start \nThis is the second year running where the band have been asked to play at the Singers Christmas Concert\, \nTICKETS CAN BE OBTAINED THROUGH HORBURY SINGERS CHOIR.
URL:https://hadeedgeband.co.uk/engage/concert-with-horbury-singers/
END:VEVENT
BEGIN:VEVENT
DTSTART;TZID=UTC:20181207T183000
DTEND;TZID=UTC:20181207T193000
DTSTAMP:20260424T084125
CREATED:20180513T185353Z
LAST-MODIFIED:20180617T164421Z
UID:1777-1544207400-1544211000@hadeedgeband.co.uk
SUMMARY:Scholes Chapel
DESCRIPTION:Hade Edge B Band will be playing Carols at the above event which takes place at Scholes Chapel on Friday 7th December at 6:30pm. All welcome
URL:https://hadeedgeband.co.uk/engage/scholes-chapel/
LOCATION:Scholes Chapel
END:VEVENT
BEGIN:VEVENT
DTSTART;TZID=UTC:20181202T180000
DTEND;TZID=UTC:20181202T193000
DTSTAMP:20260424T084125
CREATED:20181116T093802Z
LAST-MODIFIED:20181116T110335Z
UID:2086-1543773600-1543779000@hadeedgeband.co.uk
SUMMARY:Switiching on the Christmas Lights - Sunday 2nd December
DESCRIPTION:Once again a group of players have been asked to switch on the Christmas Lights at the Clothiers Arms Netherthong on Sunday 2nd December at 6pm \nCome along and enjoy the event
URL:https://hadeedgeband.co.uk/engage/switiching-on-the-christmas-lights-sunday-2nd-december/
END:VEVENT
BEGIN:VEVENT
DTSTART;TZID=UTC:20181124T160000
DTEND;TZID=UTC:20181124T170000
DTSTAMP:20260424T084125
CREATED:20181116T093935Z
LAST-MODIFIED:20181116T110250Z
UID:2088-1543075200-1543078800@hadeedgeband.co.uk
SUMMARY:Holmfirth Christmas Lights Switch -On. Saturday 24th November
DESCRIPTION:Our B Band players will be leading the procession and the Carols as Holmfirth Switch on their Christmas lights from 4pm on Saturday 24th November. \nCome along and enjoy the evenings events \n 
URL:https://hadeedgeband.co.uk/engage/holmfirth-christmas-lights-switch-on-saturday-24th-november/
END:VEVENT
BEGIN:VEVENT
DTSTART;TZID=UTC:20181118T080000
DTEND;TZID=UTC:20181118T170000
DTSTAMP:20260424T084125
CREATED:20180513T185102Z
LAST-MODIFIED:20180617T164537Z
UID:1773-1542528000-1542560400@hadeedgeband.co.uk
SUMMARY:Leicester Contest
DESCRIPTION:This event takes place on Sunday 18th November. All day event
URL:https://hadeedgeband.co.uk/engage/leicester-contest/
LOCATION:Leicester
END:VEVENT
BEGIN:VEVENT
DTSTART;TZID=UTC:20181111T100000
DTEND;TZID=UTC:20181111T123000
DTSTAMP:20260424T084125
CREATED:20180513T184940Z
LAST-MODIFIED:20181106T185454Z
UID:1769-1541930400-1541939400@hadeedgeband.co.uk
SUMMARY:Sunday 11th November - Remembrance Sunday
DESCRIPTION:Hade Edge Band will be involved in two events to commemorate the above Sunday and also 100 years since the end of WW1. \nThe band will be heading the procession WHICH THIS YEAR WILL TAKE PLACE IN GREENHEAD PARK FROM THE LOWER GATES UP TO THE MEMORIAL WHERE A SERVICE WILL TAKE PLACE (1030AM) AND NOT IN HUDDERSTIELD TOWN CENTRE. .    In the evening the band will be at Cliff Rec\, Holmfirth at 7pm to sound the Last Post and also celebrate with the Holmfirth community the lighting of the beacon as part of the countrywide event to light up the beacons across the country to mark the 100th anniversary year of the ending of World War 1.
URL:https://hadeedgeband.co.uk/engage/sunday-11th-november-remembrance-sunday/
LOCATION:Huddersfield Town Hall
END:VEVENT
BEGIN:VEVENT
DTSTART;TZID=UTC:20181109T193000
DTEND;TZID=UTC:20181109T220000
DTSTAMP:20260424T084125
CREATED:20180722T185329Z
LAST-MODIFIED:20180902T065759Z
UID:2030-1541791800-1541800800@hadeedgeband.co.uk
SUMMARY:St. Pauls Concert November - FRIDAY 9TH NOVEMBER- MEMORIES & REFLECTIONS OF REMEMBRANCE
DESCRIPTION:St. Paul’s Hall. Huddersfield will be the venue for a superb concert to commemorate the end of World War One\, one hundred years ago. The concert commences at 7:30pm and will feature music associated with World Wars and Armistice Day which follows the concert on Sunday 11th November. \nTickets will be £10 and can be booked by calling 07512 600602 \n  \nFriday 9th November – Tickets now on sale.
URL:https://hadeedgeband.co.uk/engage/st-pauls-concert-november/
LOCATION:St. Pauls Hall\, Huddersfield\, United Kingdom
END:VEVENT
BEGIN:VEVENT
DTSTART;VALUE=DATE:20181104
DTEND;VALUE=DATE:20181105
DTSTAMP:20260424T084125
CREATED:20180513T185020Z
LAST-MODIFIED:20180822T125537Z
UID:1771-1541289600-1541375999@hadeedgeband.co.uk
SUMMARY:Y&HBBA Contest
DESCRIPTION:This takes place on Sunday 4th November at Dewsbury Town Hall. All day event. HADE EDGE BAND WILL NOT BE COMPETING THIS YEAR.
URL:https://hadeedgeband.co.uk/engage/yhbba-contest/
LOCATION:Dewsbury Town Hall
END:VEVENT
BEGIN:VEVENT
DTSTART;VALUE=DATE:20181021
DTEND;VALUE=DATE:20181022
DTSTAMP:20260424T084125
CREATED:20180513T184346Z
LAST-MODIFIED:20180617T164912Z
UID:1765-1540080000-1540166399@hadeedgeband.co.uk
SUMMARY:Rochdale Contest
DESCRIPTION:Sunday 21st October – Hade Edge Band will be contesting in Rochdale Town Hall in the annual Rochdale Brass Band Contest
URL:https://hadeedgeband.co.uk/engage/rochdale-contest/
LOCATION:Rochdale Town Hall
END:VEVENT
BEGIN:VEVENT
DTSTART;VALUE=DATE:20181014
DTEND;VALUE=DATE:20181015
DTSTAMP:20260424T084125
CREATED:20180513T184531Z
LAST-MODIFIED:20180617T164823Z
UID:1767-1539475200-1539561599@hadeedgeband.co.uk
SUMMARY:Pogson -Bray Entertainment Contest
DESCRIPTION:Hade Edge B Band will be performing in the above contest which takes place on Sunday 14th October at Berties\, Elland. Please come along and support out B Band under the directionship of Jonathan Mitra.
URL:https://hadeedgeband.co.uk/engage/pogson-bray-entertainment-contest/
LOCATION:Berties; Elland
END:VEVENT
BEGIN:VEVENT
DTSTART;TZID=UTC:20180930T193000
DTEND;TZID=UTC:20180930T220000
DTSTAMP:20260424T084125
CREATED:20180616T184213Z
LAST-MODIFIED:20180902T185419Z
UID:1785-1538335800-1538344800@hadeedgeband.co.uk
SUMMARY:Concert featuring guest artiste - Dennis Rollins on Trombone
DESCRIPTION:Concert on Sunday 30th September  7PM – Evening – Holmfirth Civic Hall – Rath Trombone Artist- Dennis Rollins in concert with Hade Edge Band. Tickets available in August from Robert on 07512 600602.. TICKETS NOW ON SALE AT £10 AND £7 FOR CONCESSIONS. CAN BE PURCHASED THROUGH BAND MEMBERS/HOLMFIRTH CIVIC HALL/ OR CALL 07512 600602.
URL:https://hadeedgeband.co.uk/engage/concert-featuring-guest-artiste-dennis-rollins-on-trombone/
LOCATION:Holmfirth Civic Hall
END:VEVENT
BEGIN:VEVENT
DTSTART;TZID=UTC:20180922T193000
DTEND;TZID=UTC:20180922T220000
DTSTAMP:20260424T084125
CREATED:20180513T184258Z
LAST-MODIFIED:20180902T185513Z
UID:1763-1537644600-1537653600@hadeedgeband.co.uk
SUMMARY:Concert with Bolsterstone MVC
DESCRIPTION:Hade Edge Band and Bolsterstone MVC will be joining together this year to perform a joint concert in St. Mary’s Church\, Bolsterstone on Saturday 22nd September. More details of time and how to obtain tickets will be announced in due course.
URL:https://hadeedgeband.co.uk/engage/concert-with-bolsterstone-mvc/
LOCATION:St. Marys Church Balsterstone
END:VEVENT
BEGIN:VEVENT
DTSTART;TZID=UTC:20180916T140000
DTEND;TZID=UTC:20180916T163000
DTSTAMP:20260424T084125
CREATED:20180513T184053Z
LAST-MODIFIED:20180902T185632Z
UID:1761-1537106400-1537115400@hadeedgeband.co.uk
SUMMARY:Sunday 16th September - Wetherby Band Stand
DESCRIPTION:Hade Edge Band will be playing in the band stand at Wetherby on Sunday 16th September from 2pm – 4pm. All welcome
URL:https://hadeedgeband.co.uk/engage/sunday-16th-september-wetherby-band-stand/
LOCATION:Wetherby Band Stand
END:VEVENT
BEGIN:VEVENT
DTSTART;TZID=UTC:20180822T080000
DTEND;TZID=UTC:20180822T170000
DTSTAMP:20260424T084125
CREATED:20180822T125723Z
LAST-MODIFIED:20181102T160804Z
UID:2051-1534924800-1534957200@hadeedgeband.co.uk
SUMMARY:Carols at Carlecotes
DESCRIPTION:Once again the very popular Christmas Concert takes place in Carlecotes Church on Saturday 15th December. \nA full church is expected so please look out for ticket details nearer the time.  TICKETS NOW ON SALE – PLEASE RING 07512 600602
URL:https://hadeedgeband.co.uk/engage/carols-at-carlecotes/
END:VEVENT
BEGIN:VEVENT
DTSTART;TZID=UTC:20180810T130000
DTEND;TZID=UTC:20180810T153000
DTSTAMP:20260424T084125
CREATED:20180513T183933Z
LAST-MODIFIED:20180617T174137Z
UID:1759-1533906000-1533915000@hadeedgeband.co.uk
SUMMARY:Wedding at Carlecotes Church - FRIDAY 10th AUGUST (Private event)
DESCRIPTION:The band will be playing for the wedding that takes place at Carlecotes Church at 2pm on FRIDAY 10th AUGUST. Band will be playing from 1pm – 2pm and then again after the ceremony at approx. 2:45 to 3:15 as guests leave to travel to the reception.
URL:https://hadeedgeband.co.uk/engage/wedding-at-carlecotes-church-friday-10th-august/
LOCATION:Carlecotes Church
END:VEVENT
BEGIN:VEVENT
DTSTART;TZID=UTC:20180810T080000
DTEND;TZID=UTC:20180810T170000
DTSTAMP:20260424T084125
CREATED:20180810T074309Z
LAST-MODIFIED:20180810T074309Z
UID:2044-1533888000-1533920400@hadeedgeband.co.uk
SUMMARY:Harewood House Carols
DESCRIPTION:Hade Edge Band will be entertaining the public at Harewood House’s Christmas Spectacular this year. \nThe band will be playing on Sunday 9th December during the afternoon
URL:https://hadeedgeband.co.uk/engage/harewood-house-carols/
END:VEVENT
BEGIN:VEVENT
DTSTART;TZID=UTC:20180721T140000
DTEND;TZID=UTC:20180721T170000
DTSTAMP:20260424T084125
CREATED:20180402T085452Z
LAST-MODIFIED:20180701T184310Z
UID:1744-1532181600-1532192400@hadeedgeband.co.uk
SUMMARY:Carlecotes Garden Party
DESCRIPTION:Hade Edge Band will be playing at the above event on Saturday 21st July in the afternoon. A lovely event to attend in the setting of the gardens of Carlecotes Church and the family house of the Wood’s. \nTICKETS NOW ON SALE FROM ANY BAND MEMBER OR CALL ROBERT ON 07512 600602 \nAdults £6 and under 16’s £3. Ticket price includes entrance\, strawberries and cream and tea/coffee or soft drink. \n  \nPlease call Robert asap on the above number
URL:https://hadeedgeband.co.uk/engage/carlecotes-garden-party/
LOCATION:Carlecotes Church
END:VEVENT
BEGIN:VEVENT
DTSTART;VALUE=DATE:20180714
DTEND;VALUE=DATE:20180715
DTSTAMP:20260424T084125
CREATED:20180402T085311Z
LAST-MODIFIED:20180617T165437Z
UID:1742-1531526400-1531612799@hadeedgeband.co.uk
SUMMARY:Durham Miners Gala
DESCRIPTION:Once again the band have been invited to lead the banner in the above event for the village of Sacriston. The event takes place on Saturday 14th July in Durham City
URL:https://hadeedgeband.co.uk/engage/durham-miners-gala/
LOCATION:Sacriston Village and Durham City Centre
END:VEVENT
BEGIN:VEVENT
DTSTART;TZID=UTC:20180701T130000
DTEND;TZID=UTC:20180701T190000
DTSTAMP:20260424T084125
CREATED:20180402T085200Z
LAST-MODIFIED:20180617T165527Z
UID:1740-1530450000-1530471600@hadeedgeband.co.uk
SUMMARY:Brighouse March Contest
DESCRIPTION:This contest takes place on Sunday 1st July in Brighouse Town centre. Hade Edge Band will be competing along with 25 other bands on the day.
URL:https://hadeedgeband.co.uk/engage/brighouse-march-contest/
LOCATION:Brighouse Town Centre
END:VEVENT
BEGIN:VEVENT
DTSTART;TZID=UTC:20180701T080000
DTEND;TZID=UTC:20180701T170000
DTSTAMP:20260424T084125
CREATED:20180701T184912Z
LAST-MODIFIED:20180701T184912Z
UID:1946-1530432000-1530464400@hadeedgeband.co.uk
SUMMARY:NIAGRA CLUB CONCERT.
DESCRIPTION:The band will be at The Niagra Club\, Sheffield on Sunday 7th OCTOBER – Evening Concert
URL:https://hadeedgeband.co.uk/engage/niagra-club-concert/
END:VEVENT
BEGIN:VEVENT
DTSTART;TZID=UTC:20180630T160000
DTEND;TZID=UTC:20180630T220000
DTSTAMP:20260424T084125
CREATED:20180513T183654Z
LAST-MODIFIED:20180617T165223Z
UID:1757-1530374400-1530396000@hadeedgeband.co.uk
SUMMARY:Band Barbecue at the band room
DESCRIPTION:All band members welcome to this event. Commences from 4pm-
URL:https://hadeedgeband.co.uk/engage/band-barbecue-at-the-band-room/
LOCATION:Band Room Hade Edge
END:VEVENT
BEGIN:VEVENT
DTSTART;TZID=UTC:20180628T193000
DTEND;TZID=UTC:20180628T220000
DTSTAMP:20260424T084125
CREATED:20180513T183509Z
LAST-MODIFIED:20180617T165259Z
UID:1754-1530214200-1530223200@hadeedgeband.co.uk
SUMMARY:Band Room Concert
DESCRIPTION:Thursday 28th JUNE at 7:30pm. Trainer Band/B Band and Senior band Concert
URL:https://hadeedgeband.co.uk/engage/band-room-concert/
LOCATION:Band Room Hade Edge
END:VEVENT
BEGIN:VEVENT
DTSTART;TZID=UTC:20180617T140000
DTEND;TZID=UTC:20180617T163000
DTSTAMP:20260424T084125
CREATED:20180402T085114Z
LAST-MODIFIED:20180617T165609Z
UID:1738-1529244000-1529253000@hadeedgeband.co.uk
SUMMARY:Greenhead Park Huddersfield
DESCRIPTION:Hade Edge Band will be entertaining the visitors in Greenhead Park on Sunday 17th June from 2pm. This event is organised by the Friends of Greenhead Park and we are pleased to be associated with this event.
URL:https://hadeedgeband.co.uk/engage/greenhead-park-huddersfield/
LOCATION:Greenhead Park
END:VEVENT
BEGIN:VEVENT
DTSTART;TZID=UTC:20180415T190000
DTEND;TZID=UTC:20180415T220000
DTSTAMP:20260424T084125
CREATED:20171222T114631Z
LAST-MODIFIED:20180402T084440Z
UID:1508-1523818800-1523829600@hadeedgeband.co.uk
SUMMARY:Hade Edge Band Anniversary Concert
DESCRIPTION:2018 will be the 110th year of Hade Edge Band and to celebrate this milestone the band will be performing a concert in St. Pauls Hall Huddersfield. SUNDAY 15TH APRIL 2018 – TICKETS NOW ON SALE PLEASE RING ROBERT ON 07512 600602 TO RESERVE YOUR TICKETS. 7P\, IN ST\, PAULS HALL HUDDERSFIELD.
URL:https://hadeedgeband.co.uk/engage/hade-edge-band-anniversary-concert/
LOCATION:St. Pauls Hall\, Huddersfield\, United Kingdom
END:VEVENT
BEGIN:VEVENT
DTSTART;TZID=UTC:20180402T080000
DTEND;TZID=UTC:20180402T170000
DTSTAMP:20260424T084125
CREATED:20180402T085009Z
LAST-MODIFIED:20180402T085009Z
UID:1736-1522656000-1522688400@hadeedgeband.co.uk
SUMMARY:Holme Valley Contest. Senior Band and B Band
DESCRIPTION:Both Senior and B Bands will be competing at the 2018 Holme Valley Contest to be held on Sunday 29th April at Holmfirth Civic Hall. \nB Band will be competing in the C Section and the Senior Band in the A section of the contest.
URL:https://hadeedgeband.co.uk/engage/holme-valley-contest-senior-band-and-b-band/
END:VEVENT
BEGIN:VEVENT
DTSTART;TZID=UTC:20180310T190000
DTEND;TZID=UTC:20180310T220000
DTSTAMP:20260424T084125
CREATED:20171222T114324Z
LAST-MODIFIED:20180114T190155Z
UID:1505-1520708400-1520719200@hadeedgeband.co.uk
SUMMARY:Penistone Ladies Choir Concert
DESCRIPTION:Hade Edge Band will once again be guests of Penistone Ladies Choir at their concert on Saturday 10th March.  This will be held at The Paramount Cinema. Penistone. Ticket information will be released during January 2018..  TICKETS CAN BE OBTAINED BY RINGING THE BOX OFFICE AT THE PARAMOUNT. \nTickets are £10 and can be purchased on 01226 767532. \n 
URL:https://hadeedgeband.co.uk/engage/penistone-ladies-choir-concert/
LOCATION:Paramount Cinema\, Shrewsbury Road\, Penistone\, United Kingdom
END:VEVENT
END:VCALENDAR