BEGIN:VCALENDAR
VERSION:2.0
PRODID:-//Hade Edge Band - ECPv6.15.20//NONSGML v1.0//EN
CALSCALE:GREGORIAN
METHOD:PUBLISH
X-WR-CALNAME:Hade Edge Band
X-ORIGINAL-URL:https://hadeedgeband.co.uk
X-WR-CALDESC:Events for Hade Edge Band
REFRESH-INTERVAL;VALUE=DURATION:PT1H
X-Robots-Tag:noindex
X-PUBLISHED-TTL:PT1H
BEGIN:VTIMEZONE
TZID:UTC
BEGIN:STANDARD
TZOFFSETFROM:+0000
TZOFFSETTO:+0000
TZNAME:UTC
DTSTART:20170101T000000
END:STANDARD
END:VTIMEZONE
BEGIN:VEVENT
DTSTART;TZID=UTC:20180630T160000
DTEND;TZID=UTC:20180630T220000
DTSTAMP:20260424T123853
CREATED:20180513T183654Z
LAST-MODIFIED:20180617T165223Z
UID:1757-1530374400-1530396000@hadeedgeband.co.uk
SUMMARY:Band Barbecue at the band room
DESCRIPTION:All band members welcome to this event. Commences from 4pm-
URL:https://hadeedgeband.co.uk/engage/band-barbecue-at-the-band-room/
LOCATION:Band Room Hade Edge
END:VEVENT
BEGIN:VEVENT
DTSTART;TZID=UTC:20180628T193000
DTEND;TZID=UTC:20180628T220000
DTSTAMP:20260424T123853
CREATED:20180513T183509Z
LAST-MODIFIED:20180617T165259Z
UID:1754-1530214200-1530223200@hadeedgeband.co.uk
SUMMARY:Band Room Concert
DESCRIPTION:Thursday 28th JUNE at 7:30pm. Trainer Band/B Band and Senior band Concert
URL:https://hadeedgeband.co.uk/engage/band-room-concert/
LOCATION:Band Room Hade Edge
END:VEVENT
BEGIN:VEVENT
DTSTART;TZID=UTC:20180617T140000
DTEND;TZID=UTC:20180617T163000
DTSTAMP:20260424T123853
CREATED:20180402T085114Z
LAST-MODIFIED:20180617T165609Z
UID:1738-1529244000-1529253000@hadeedgeband.co.uk
SUMMARY:Greenhead Park Huddersfield
DESCRIPTION:Hade Edge Band will be entertaining the visitors in Greenhead Park on Sunday 17th June from 2pm. This event is organised by the Friends of Greenhead Park and we are pleased to be associated with this event.
URL:https://hadeedgeband.co.uk/engage/greenhead-park-huddersfield/
LOCATION:Greenhead Park
END:VEVENT
BEGIN:VEVENT
DTSTART;TZID=UTC:20180415T190000
DTEND;TZID=UTC:20180415T220000
DTSTAMP:20260424T123853
CREATED:20171222T114631Z
LAST-MODIFIED:20180402T084440Z
UID:1508-1523818800-1523829600@hadeedgeband.co.uk
SUMMARY:Hade Edge Band Anniversary Concert
DESCRIPTION:2018 will be the 110th year of Hade Edge Band and to celebrate this milestone the band will be performing a concert in St. Pauls Hall Huddersfield. SUNDAY 15TH APRIL 2018 – TICKETS NOW ON SALE PLEASE RING ROBERT ON 07512 600602 TO RESERVE YOUR TICKETS. 7P\, IN ST\, PAULS HALL HUDDERSFIELD.
URL:https://hadeedgeband.co.uk/engage/hade-edge-band-anniversary-concert/
LOCATION:St. Pauls Hall\, Huddersfield\, United Kingdom
END:VEVENT
BEGIN:VEVENT
DTSTART;TZID=UTC:20180402T080000
DTEND;TZID=UTC:20180402T170000
DTSTAMP:20260424T123853
CREATED:20180402T085009Z
LAST-MODIFIED:20180402T085009Z
UID:1736-1522656000-1522688400@hadeedgeband.co.uk
SUMMARY:Holme Valley Contest. Senior Band and B Band
DESCRIPTION:Both Senior and B Bands will be competing at the 2018 Holme Valley Contest to be held on Sunday 29th April at Holmfirth Civic Hall. \nB Band will be competing in the C Section and the Senior Band in the A section of the contest.
URL:https://hadeedgeband.co.uk/engage/holme-valley-contest-senior-band-and-b-band/
END:VEVENT
BEGIN:VEVENT
DTSTART;TZID=UTC:20180310T190000
DTEND;TZID=UTC:20180310T220000
DTSTAMP:20260424T123853
CREATED:20171222T114324Z
LAST-MODIFIED:20180114T190155Z
UID:1505-1520708400-1520719200@hadeedgeband.co.uk
SUMMARY:Penistone Ladies Choir Concert
DESCRIPTION:Hade Edge Band will once again be guests of Penistone Ladies Choir at their concert on Saturday 10th March.  This will be held at The Paramount Cinema. Penistone. Ticket information will be released during January 2018..  TICKETS CAN BE OBTAINED BY RINGING THE BOX OFFICE AT THE PARAMOUNT. \nTickets are £10 and can be purchased on 01226 767532. \n 
URL:https://hadeedgeband.co.uk/engage/penistone-ladies-choir-concert/
LOCATION:Paramount Cinema\, Shrewsbury Road\, Penistone\, United Kingdom
END:VEVENT
BEGIN:VEVENT
DTSTART;VALUE=DATE:20180304
DTEND;VALUE=DATE:20180305
DTSTAMP:20260424T123853
CREATED:20171222T114129Z
LAST-MODIFIED:20180114T190308Z
UID:1502-1520121600-1520207999@hadeedgeband.co.uk
SUMMARY:Yorkshire Regional Brass Band Contest
DESCRIPTION:Huddersfield Town Hall will once again host the annual regional brass band contest for Yorkshire Bands. Hade Edge Band will be competing in the First Section on the Sunday morning from 9am.  Tickets can be obtained from mid January by calling the Kirklees Town Hall box office. TICKETS GO ON SALE ON THE 15TH JANUARY FROM 10AM. FROM KIRKLEES BOX OFFICE OR CALL IN PERSON TO THE TOWN HALL OR LIBRARY IN HUDDERSFIELD.
URL:https://hadeedgeband.co.uk/engage/yorkshire-regional-brass-band-contest/
LOCATION:Huddersfield Town Hall
END:VEVENT
BEGIN:VEVENT
DTSTART;TZID=UTC:20180224T000000
DTEND;TZID=UTC:20180224T000000
DTSTAMP:20260424T123853
CREATED:20171222T113906Z
LAST-MODIFIED:20171222T113906Z
UID:1500-1519430400-1519430400@hadeedgeband.co.uk
SUMMARY:Pre-Area Test Piece Contest - Elland
DESCRIPTION:Hade Edge Band are to join other bands at this pre-area run through of the test piece. \nHade Edge Band will be performing the First Section test piece on the evening.
URL:https://hadeedgeband.co.uk/engage/pre-area-test-piece-contest-elland/
END:VEVENT
BEGIN:VEVENT
DTSTART;TZID=UTC:20180114T080000
DTEND;TZID=UTC:20180114T170000
DTSTAMP:20260424T123853
CREATED:20180114T190438Z
LAST-MODIFIED:20180114T190438Z
UID:1532-1515916800-1515949200@hadeedgeband.co.uk
SUMMARY:Holme Valley BBA Contest - 92nd year
DESCRIPTION:The above contest will take place on SUNDAY 29th APRIL in Holmfirth Civic Hall. Bands from Hade Edge will be competing in the annual Holmfirth Festival now in its 92nd year of contesting.
URL:https://hadeedgeband.co.uk/engage/holme-valley-bba-contest-92nd-year/
END:VEVENT
END:VCALENDAR