BEGIN:VCALENDAR
VERSION:2.0
PRODID:-//Hade Edge Band - ECPv6.15.20//NONSGML v1.0//EN
CALSCALE:GREGORIAN
METHOD:PUBLISH
X-ORIGINAL-URL:https://hadeedgeband.co.uk
X-WR-CALDESC:Events for Hade Edge Band
REFRESH-INTERVAL;VALUE=DURATION:PT1H
X-Robots-Tag:noindex
X-PUBLISHED-TTL:PT1H
BEGIN:VTIMEZONE
TZID:UTC
BEGIN:STANDARD
TZOFFSETFROM:+0000
TZOFFSETTO:+0000
TZNAME:UTC
DTSTART:20170101T000000
END:STANDARD
END:VTIMEZONE
BEGIN:VEVENT
DTSTART;TZID=UTC:20180114T080000
DTEND;TZID=UTC:20180114T170000
DTSTAMP:20260424T142440
CREATED:20180114T190438Z
LAST-MODIFIED:20180114T190438Z
UID:1532-1515916800-1515949200@hadeedgeband.co.uk
SUMMARY:Holme Valley BBA Contest - 92nd year
DESCRIPTION:The above contest will take place on SUNDAY 29th APRIL in Holmfirth Civic Hall. Bands from Hade Edge will be competing in the annual Holmfirth Festival now in its 92nd year of contesting.
URL:https://hadeedgeband.co.uk/engage/holme-valley-bba-contest-92nd-year/
END:VEVENT
END:VCALENDAR