BEGIN:VCALENDAR
VERSION:2.0
PRODID:-//Hade Edge Band - ECPv6.15.20//NONSGML v1.0//EN
CALSCALE:GREGORIAN
METHOD:PUBLISH
X-WR-CALNAME:Hade Edge Band
X-ORIGINAL-URL:https://hadeedgeband.co.uk
X-WR-CALDESC:Events for Hade Edge Band
REFRESH-INTERVAL;VALUE=DURATION:PT1H
X-Robots-Tag:noindex
X-PUBLISHED-TTL:PT1H
BEGIN:VTIMEZONE
TZID:UTC
BEGIN:STANDARD
TZOFFSETFROM:+0000
TZOFFSETTO:+0000
TZNAME:UTC
DTSTART:20220101T000000
END:STANDARD
END:VTIMEZONE
BEGIN:VEVENT
DTSTART;TZID=UTC:20241122T170000
DTEND;TZID=UTC:20241124T173000
DTSTAMP:20260421T051910
CREATED:20240711T154448Z
LAST-MODIFIED:20241113T090124Z
UID:3261-1732294800-1732469400@hadeedgeband.co.uk
SUMMARY:National Coal Mining Museum Lighting weekend
DESCRIPTION:The band will be entertaining at the National Coal Mining Museum at Wakefield as follows \nFriday 22nd November – from around 5pm as Santa arrives at the Colliery \nSaturday 23rd November – Live performance of The Snowman during the afternoon – SOLD OUT \nSunday 24th November – from around 4pm – lighting procession and entertainment
URL:https://hadeedgeband.co.uk/engage/national-coal-mining-museum-lighting-weekend/
LOCATION:National Coal Mining Museum
END:VEVENT
BEGIN:VEVENT
DTSTART;TZID=UTC:20241110T103000
DTEND;TZID=UTC:20241110T130000
DTSTAMP:20260421T051910
CREATED:20240711T154150Z
LAST-MODIFIED:20240711T154150Z
UID:3259-1731234600-1731243600@hadeedgeband.co.uk
SUMMARY:Remembrance Parade Huddersfield
DESCRIPTION:The annual Remembrance Service which takes place in Huddersfield Town Centre will once again be led by Hade Edge Band \nLeaving the Town Hall to march to St\, Peters Church and return after the service of remembrance.
URL:https://hadeedgeband.co.uk/engage/remembrance-parade-huddersfield/
LOCATION:Huddersfield Town Hall
END:VEVENT
BEGIN:VEVENT
DTSTART;TZID=UTC:20241026T190000
DTEND;TZID=UTC:20241026T220000
DTSTAMP:20260421T051910
CREATED:20240116T133250Z
LAST-MODIFIED:20240116T133250Z
UID:3216-1729969200-1729980000@hadeedgeband.co.uk
SUMMARY:Concert with Skelmanthorpe MVC Kirkburton Church
DESCRIPTION:Hade Edge band will be joining Skelmanthorpe MVC for an evening of entertainment to mark the 70th birthday of Georgina Dickinson \nTo be held in All Hallows Church Kirkburton \nTicket information available nearer the date
URL:https://hadeedgeband.co.uk/engage/concert-with-skelmanthorpe-mvc-kirkburton-church/
LOCATION:All Hallows Church Kirkburton
END:VEVENT
BEGIN:VEVENT
DTSTART;TZID=UTC:20241020T140000
DTEND;TZID=UTC:20241020T150000
DTSTAMP:20260421T051910
CREATED:20240711T153951Z
LAST-MODIFIED:20240711T153951Z
UID:3256-1729432800-1729436400@hadeedgeband.co.uk
SUMMARY:Choppards Mission Appreciation Day event
DESCRIPTION:A small group from Hade Edge Band will be playing at Choppards Appreciation Day \nTakes place on Sunday 20th October \nBand will be playing during the afternoon for about 30 mins.
URL:https://hadeedgeband.co.uk/engage/choppards-mission-appreciation-day-event/
LOCATION:Choppards Mission
END:VEVENT
BEGIN:VEVENT
DTSTART;TZID=UTC:20241012T190000
DTEND;TZID=UTC:20241012T210000
DTSTAMP:20260421T051910
CREATED:20240116T133030Z
LAST-MODIFIED:20240116T133030Z
UID:3213-1728759600-1728766800@hadeedgeband.co.uk
SUMMARY:Bavarian Night - Private booking
DESCRIPTION:Meltham Golf Club dinner Saturday 12th October in the evening
URL:https://hadeedgeband.co.uk/engage/bavarian-night-private-booking/
LOCATION:Meltham Golf Club
END:VEVENT
BEGIN:VEVENT
DTSTART;TZID=UTC:20241012T120000
DTEND;TZID=UTC:20241012T170000
DTSTAMP:20260421T051910
CREATED:20240711T153759Z
LAST-MODIFIED:20240711T153759Z
UID:3254-1728734400-1728752400@hadeedgeband.co.uk
SUMMARY:Rochdale Contest
DESCRIPTION:Hade Edge Band have entertained the Rochdale Contest \nTakes place at Wardle High School on Saturday 12th October
URL:https://hadeedgeband.co.uk/engage/rochdale-contest-2/
LOCATION:Wardle High School
END:VEVENT
BEGIN:VEVENT
DTSTART;TZID=UTC:20240929T100000
DTEND;TZID=UTC:20240929T200000
DTSTAMP:20260421T051910
CREATED:20240711T153523Z
LAST-MODIFIED:20240711T153635Z
UID:3248-1727604000-1727640000@hadeedgeband.co.uk
SUMMARY:Red Admiral Entertainment Contest
DESCRIPTION:Hade Edge Band will be taking part in the inaugural Red Admiral Entertainment Contest \nTakes place on Sunday 29th September from 10am at Chorley \nThere are 18 bands in the Champ/First Section which commences at 10am and concludes at approx 8pm
URL:https://hadeedgeband.co.uk/engage/red-admiral-entertainment-contest/
LOCATION:Chorley School
END:VEVENT
BEGIN:VEVENT
DTSTART;TZID=UTC:20240720T113000
DTEND;TZID=UTC:20240720T160000
DTSTAMP:20260421T051910
CREATED:20240522T135932Z
LAST-MODIFIED:20240522T135932Z
UID:3230-1721475000-1721491200@hadeedgeband.co.uk
SUMMARY:Brass bands in the Colliery
DESCRIPTION:Hade Edge Band will be playing at the National Coal Mining Museum throughout the day from 1130am  on Saturday 20th July 2024 \nNational Coal Mining Museum Wakefield
URL:https://hadeedgeband.co.uk/engage/brass-bands-in-the-colliery/
LOCATION:National Coal Mining Museum Wakefield\, Middlestown\, Wakefield
END:VEVENT
BEGIN:VEVENT
DTSTART;TZID=UTC:20240713T080000
DTEND;TZID=UTC:20240713T170000
DTSTAMP:20260421T051910
CREATED:20240116T124419Z
LAST-MODIFIED:20240116T124419Z
UID:3208-1720857600-1720890000@hadeedgeband.co.uk
SUMMARY:Durham Miners Gala 2024
DESCRIPTION:This takes place on Saturday July 13th in Durham City centre. \nHade Edge Band will once again be leading the banner from the village of Sacriston. \n 
URL:https://hadeedgeband.co.uk/engage/durham-miners-gala-2024/
LOCATION:Sacriston Village and Durham City Centre
END:VEVENT
BEGIN:VEVENT
DTSTART;TZID=UTC:20240706T120000
DTEND;TZID=UTC:20240706T170000
DTSTAMP:20260421T051910
CREATED:20240116T124257Z
LAST-MODIFIED:20240116T124257Z
UID:3206-1720267200-1720285200@hadeedgeband.co.uk
SUMMARY:Hade Edge Gala 2024 event
DESCRIPTION:hade Edge Gala takes place on Saturday 6th July from midday. \nProcession leaving the bandroom at 12noon for the football field \nHade Edge Band will be providing the music for the procession and a concert on the field. \n 
URL:https://hadeedgeband.co.uk/engage/hade-edge-gala-2024-event/
LOCATION:Hade Edge Village
END:VEVENT
BEGIN:VEVENT
DTSTART;TZID=UTC:20240622T140000
DTEND;TZID=UTC:20240622T170000
DTSTAMP:20260421T051910
CREATED:20240116T124015Z
LAST-MODIFIED:20240116T124015Z
UID:3204-1719064800-1719075600@hadeedgeband.co.uk
SUMMARY:Carlecotes Church Garden Party
DESCRIPTION:Hade Edge Band will be providing the afternoons entertainment at the annual Carlecotes Garden party \nTickets can be obtained in advance from early June \nSaturday 22nd June f rom 2pm Carlecotes Church grounds
URL:https://hadeedgeband.co.uk/engage/carlecotes-church-garden-party/
LOCATION:Carlecotes Church
END:VEVENT
BEGIN:VEVENT
DTSTART;TZID=UTC:20240607T190000
DTEND;TZID=UTC:20240607T220000
DTSTAMP:20260421T051910
CREATED:20240116T123806Z
LAST-MODIFIED:20240116T123806Z
UID:3202-1717786800-1717797600@hadeedgeband.co.uk
SUMMARY:Concert with Huddersfield Choral Youth Choirs 2024
DESCRIPTION:The concert with Hade Edge Band and the choirs from Huddersfield Choral Youth will join together to present an evening of entertainment \nHolmfirth Civic \nFriday 7th June  7pm \nTickets can be obtained in advance from the band or the Civic Hall
URL:https://hadeedgeband.co.uk/engage/concert-with-huddersfield-choral-youth-choirs-2024/
LOCATION:Holmfirth Civic Hall
END:VEVENT
BEGIN:VEVENT
DTSTART;TZID=UTC:20240606T200000
DTEND;TZID=UTC:20240606T220000
DTSTAMP:20260421T051910
CREATED:20240116T123608Z
LAST-MODIFIED:20240116T123608Z
UID:3200-1717704000-1717711200@hadeedgeband.co.uk
SUMMARY:D- Day 80th year Celebrations Cliff Rec Holmfirth
DESCRIPTION:There will be an event taking place at Cliff Rec to celebrate the 80th anniversary of D-Day. \nEvent will commence around 8pm with the beacon being lit around 915pm \nHade Edge Band will be providing the music entertainment during the evening
URL:https://hadeedgeband.co.uk/engage/d-day-80th-year-celebrations-cliff-rec-holmfirth/
LOCATION:Holmfirth Cliff Jubilee Beacon\, Cliff Rd\, Holmfirth\, HD9 1UY\, United Kingdom
END:VEVENT
BEGIN:VEVENT
DTSTART;TZID=UTC:20240428T100000
DTEND;TZID=UTC:20240428T170000
DTSTAMP:20260421T051910
CREATED:20240116T123407Z
LAST-MODIFIED:20240116T123407Z
UID:3198-1714298400-1714323600@hadeedgeband.co.uk
SUMMARY:Holme Valley Brass Band Contest - 2024
DESCRIPTION:Hade Edge Band will be competing in the Holme Valley Contest which takes place on Sunday 28th April from 10am \nThe Civic Holmfirth \nTickets on the door
URL:https://hadeedgeband.co.uk/engage/holme-valley-brass-band-contest-2024/
LOCATION:Holmfirth Civic Hall
END:VEVENT
BEGIN:VEVENT
DTSTART;TZID=UTC:20240303T093000
DTEND;TZID=UTC:20240303T143000
DTSTAMP:20260421T051910
CREATED:20240116T123244Z
LAST-MODIFIED:20240116T123244Z
UID:3196-1709458200-1709476200@hadeedgeband.co.uk
SUMMARY:Yorkshire Regional Brass Band Championships 2024
DESCRIPTION:Hade Edge Band will be competing in the above contest which will take place on Sunday 3rd March from 930am in Section One of the Championships \nHuddersfield Town Hall \nTickets can be obtained from Kirklees Box Office – Town Hall
URL:https://hadeedgeband.co.uk/engage/yorkshire-regional-brass-band-championships-2024/
LOCATION:Huddersfield Town Hall
END:VEVENT
BEGIN:VEVENT
DTSTART;TZID=UTC:20240127T120000
DTEND;TZID=UTC:20240127T133000
DTSTAMP:20260421T051910
CREATED:20240116T123019Z
LAST-MODIFIED:20240116T123019Z
UID:3193-1706356800-1706362200@hadeedgeband.co.uk
SUMMARY:National Coal Mining Museum - KYOM23/WYOM24
DESCRIPTION:The band will be marching from the top pit yard to the main pit yard at 12noon to handover the “baton” from Kirklees to Wakefield Year of Musics \nThe band will play a 40 min concert after this commencing around 1230. \nFree event to all
URL:https://hadeedgeband.co.uk/engage/national-coal-mining-museum-kyom23-wyom24/
LOCATION:National Coal Mining Museum Wakefield\, Middlestown\, Wakefield
END:VEVENT
BEGIN:VEVENT
DTSTART;TZID=UTC:20231217T180000
DTEND;TZID=UTC:20231217T193000
DTSTAMP:20260421T051910
CREATED:20231206T164522Z
LAST-MODIFIED:20231206T164522Z
UID:3187-1702836000-1702841400@hadeedgeband.co.uk
SUMMARY:Kirkburton Christmas Carole Service
DESCRIPTION:Hade Edge Band will be providing the music for the Carol service on Sunday 17th December \n6pm at All Hallows Church Kirkburton
URL:https://hadeedgeband.co.uk/engage/kirkburton-christmas-carole-service/
LOCATION:All Hallows Church Kirkburton
END:VEVENT
BEGIN:VEVENT
DTSTART;TZID=UTC:20231210T140000
DTEND;TZID=UTC:20231210T170000
DTSTAMP:20260421T051910
CREATED:20231005T110031Z
LAST-MODIFIED:20231206T164331Z
UID:3171-1702216800-1702227600@hadeedgeband.co.uk
SUMMARY:Carlecotes Church - Christmas concert
DESCRIPTION:SUNDAY 10TH DECEMBER AT CARLECOTES CHURCH. AFTERNOON CONCERT. \nConcert commences at 2pm \nTickets from Carlecotes Church.
URL:https://hadeedgeband.co.uk/engage/carlecotes-church-christmas-concert/
END:VEVENT
BEGIN:VEVENT
DTSTART;TZID=UTC:20231112T100000
DTEND;TZID=UTC:20231112T123000
DTSTAMP:20260421T051910
CREATED:20230119T100209Z
LAST-MODIFIED:20230119T100209Z
UID:3063-1699783200-1699792200@hadeedgeband.co.uk
SUMMARY:Remembrance Sunday November 2023
DESCRIPTION:Remembrance Sunday sees the band heading the procession in Huddersfield Town Hall on behalf of Kirklees Council \nStarting from the Town Hall and marching to St.Peters Church for the service of remembrance and then returning to the Town Hall afterwards.
URL:https://hadeedgeband.co.uk/engage/remembrance-sunday-november-2023/
LOCATION:Huddersfield Town Centre
END:VEVENT
BEGIN:VEVENT
DTSTART;TZID=UTC:20231111T190000
DTEND;TZID=UTC:20231111T220000
DTSTAMP:20260421T051910
CREATED:20230119T100009Z
LAST-MODIFIED:20231017T092418Z
UID:3060-1699729200-1699740000@hadeedgeband.co.uk
SUMMARY:Concert of Remembrance  November 2023
DESCRIPTION:Hade Edge Band and Gledholt MVC are coming together to present a Concert of Remembrance on Saturday 11th November \nVENUE FOR THIS CONCERT WILL BE MOLDGREEN URC COMMENCING AT   7:15pm \n  \nTICKETS NOW AVAILABLE FROM THE BAND – £10 PER TICKET. \nPurchase your tickets early as it will be a sell out concert \n 
URL:https://hadeedgeband.co.uk/engage/concert-of-remembrance-november-2023/
LOCATION:Moldgreen URC Huddersfield
END:VEVENT
BEGIN:VEVENT
DTSTART;TZID=UTC:20230923T070000
DTEND;TZID=UTC:20230923T220000
DTSTAMP:20260421T051910
CREATED:20230328T111241Z
LAST-MODIFIED:20230328T111241Z
UID:3070-1695452400-1695506400@hadeedgeband.co.uk
SUMMARY:Last Night of the Proms with Skelmanthorpe MVC
DESCRIPTION:The band are delighted to be joining with Skelmanthorpe MVC (Conductor Jane Hobson) at a concert for \nThe Last Night of the Proms to be held in All Hallows Church Kirkburton on Saturday 23rd September. \n  \nMore details to follow
URL:https://hadeedgeband.co.uk/engage/last-night-of-the-proms-with-skelmanthorpe-mvc/
LOCATION:All Hallows Church Kirkburton
END:VEVENT
BEGIN:VEVENT
DTSTART;TZID=UTC:20230917T143000
DTEND;TZID=UTC:20230917T163000
DTSTAMP:20260421T051910
CREATED:20230119T095554Z
LAST-MODIFIED:20230119T095554Z
UID:3055-1694961000-1694968200@hadeedgeband.co.uk
SUMMARY:Wetherby Band Stand - September 2023
DESCRIPTION:The second concert of the season at Wetherby Band Stand for the band/ Sunday 17th September 2023
URL:https://hadeedgeband.co.uk/engage/wetherby-band-stand-september-2023/
LOCATION:Wetherby Band Stand
END:VEVENT
BEGIN:VEVENT
DTSTART;TZID=UTC:20230716T150000
DTEND;TZID=UTC:20230716T180000
DTSTAMP:20260421T051910
CREATED:20230119T095302Z
LAST-MODIFIED:20230618T151344Z
UID:3051-1689519600-1689530400@hadeedgeband.co.uk
SUMMARY:Kirklees Year of Music 2023
DESCRIPTION:As part of the celebrations for the Kirklees Year of Music\, Hade Edge Band will be taking part in the event in July. \nThe finale will take place on Sunday 16th July in St. George’s Square Huddersfield from early afternoon.
URL:https://hadeedgeband.co.uk/engage/kirklees-year-of-music-2023/
LOCATION:Huddersfield Town Centre
END:VEVENT
BEGIN:VEVENT
DTSTART;TZID=UTC:20230715T140000
DTEND;TZID=UTC:20230715T170000
DTSTAMP:20260421T051910
CREATED:20230119T095104Z
LAST-MODIFIED:20230119T095104Z
UID:3049-1689429600-1689440400@hadeedgeband.co.uk
SUMMARY:Carlecotes Garden Party July 2023
DESCRIPTION:Carlecotes Church and village will be holding their annual Garden Party on Saturday July 15th \nHade Edge Band will be performing at the Garden Party. \nTickets available nearer the date.
URL:https://hadeedgeband.co.uk/engage/carlecotes-garden-party-july-2023/
LOCATION:Carlecotes Church
END:VEVENT
BEGIN:VEVENT
DTSTART;TZID=UTC:20230708T080000
DTEND;TZID=UTC:20230708T170000
DTSTAMP:20260421T051910
CREATED:20230119T094909Z
LAST-MODIFIED:20230119T094909Z
UID:3047-1688803200-1688835600@hadeedgeband.co.uk
SUMMARY:Durham Miners Gala 2023
DESCRIPTION:The 2023 Durham Miners Gala takes place on Saturday 8th July \nHade Edge Band will be once again representing the village of Sacriston at their Green and then onto Durham to join the gala day.
URL:https://hadeedgeband.co.uk/engage/durham-miners-gala-2023/
LOCATION:Sacriston Village and Durham City Centre
END:VEVENT
BEGIN:VEVENT
DTSTART;TZID=UTC:20230702T143000
DTEND;TZID=UTC:20230702T163000
DTSTAMP:20260421T051910
CREATED:20230119T094709Z
LAST-MODIFIED:20230119T094709Z
UID:3045-1688308200-1688315400@hadeedgeband.co.uk
SUMMARY:Wetherby Band Stand concert 2nd July
DESCRIPTION:Hade Edge Band will be holding the first of their band stand concerts at Wetherby on Sunday July 2nd 2\,30pm – 4.30pm
URL:https://hadeedgeband.co.uk/engage/wetherby-band-stand-concert-2nd-july/
LOCATION:Wetherby Band Stand
END:VEVENT
BEGIN:VEVENT
DTSTART;TZID=UTC:20230624T130000
DTEND;TZID=UTC:20230624T150000
DTSTAMP:20260421T051910
CREATED:20230529T171745Z
LAST-MODIFIED:20230529T171745Z
UID:3112-1687611600-1687618800@hadeedgeband.co.uk
SUMMARY:Kirklees Year Of Music - Bands in the Parks
DESCRIPTION:HADE EDGE BAND  will be performing an outdoor concert in Dewsbury Longcauseway Park (Town centre) \non Saturday 24th June from 1pm – 3pm \nThe event is supported through KYOM23 events
URL:https://hadeedgeband.co.uk/engage/kirklees-year-of-music-bands-in-the-parks/
LOCATION:Dewsbury Town Centre
END:VEVENT
BEGIN:VEVENT
DTSTART;TZID=UTC:20230617T140000
DTEND;TZID=UTC:20230617T163000
DTSTAMP:20260421T051910
CREATED:20230119T094416Z
LAST-MODIFIED:20230529T171502Z
UID:3039-1687010400-1687019400@hadeedgeband.co.uk
SUMMARY:Holmfirth Arts Festival - June 2023
DESCRIPTION:Saturday 17th June ; outdoor performance of the band on the streets of Holmfirth during the afternoon as part of the Arts festival events. \nThe programme covering Hade Edge Bands performances are as follows:- \n12noon in Daisy Lane to play whilst Compo and Nora abseil down from the Church Tower. \n2:15 pm outside The Picturedrome – playing to entertain the crowds. \n3pm back at Daisy Lane to see Compo and Nora abseil down from the tower once again \n3:30pm back at the Picturedrome – playing to entertain the crowds
URL:https://hadeedgeband.co.uk/engage/holmfirth-arts-festival-june-2023/
LOCATION:Holmfirth Town\, Holmfirth
END:VEVENT
BEGIN:VEVENT
DTSTART;TZID=UTC:20230610T160000
DTEND;TZID=UTC:20230610T190000
DTSTAMP:20260421T051910
CREATED:20230529T172017Z
LAST-MODIFIED:20230529T172017Z
UID:3115-1686412800-1686423600@hadeedgeband.co.uk
SUMMARY:Meltham Hymn and March Contest
DESCRIPTION:HEB will be one of many bands competing in the Meltham contest on Saturday 10th June. \nEvent takes please from 4pm outside The Travellers Rest Pub Meltham. \n 
URL:https://hadeedgeband.co.uk/engage/meltham-hymn-and-march-contest/
LOCATION:Travellers Rest Pub Mletham
END:VEVENT
BEGIN:VEVENT
DTSTART;TZID=UTC:20230520T190000
DTEND;TZID=UTC:20230520T213000
DTSTAMP:20260421T051910
CREATED:20230118T162402Z
LAST-MODIFIED:20230118T162402Z
UID:3037-1684609200-1684618200@hadeedgeband.co.uk
SUMMARY:Concert with Huddersfield Choral Young Voices- May 20th
DESCRIPTION:Hade Edge Band and Huddersfield Choral Young Voices  perform at The Civic Holmfirth for you evening entertainment \nThe Civic Holmfirth 7pm Saturday 20th May \nTickets available nearer the date
URL:https://hadeedgeband.co.uk/engage/concert-with-huddersfield-choral-young-voices-may-20th/
LOCATION:The Civic Holmfirth\, The Civic. Holmfirth
END:VEVENT
END:VCALENDAR