BEGIN:VCALENDAR
VERSION:2.0
PRODID:-//Hade Edge Band - ECPv6.15.20//NONSGML v1.0//EN
CALSCALE:GREGORIAN
METHOD:PUBLISH
X-WR-CALNAME:Hade Edge Band
X-ORIGINAL-URL:https://hadeedgeband.co.uk
X-WR-CALDESC:Events for Hade Edge Band
REFRESH-INTERVAL;VALUE=DURATION:PT1H
X-Robots-Tag:noindex
X-PUBLISHED-TTL:PT1H
BEGIN:VTIMEZONE
TZID:UTC
BEGIN:STANDARD
TZOFFSETFROM:+0000
TZOFFSETTO:+0000
TZNAME:UTC
DTSTART:20200101T000000
END:STANDARD
END:VTIMEZONE
BEGIN:VEVENT
DTSTART;TZID=UTC:20221210T190000
DTEND;TZID=UTC:20221210T213000
DTSTAMP:20260423T124804
CREATED:20220616T121541Z
LAST-MODIFIED:20220926T115256Z
UID:2974-1670698800-1670707800@hadeedgeband.co.uk
SUMMARY:Christmas Concert at Kirkburton Church
DESCRIPTION:Hade Edge Band will be entertaining  everyone around the area on Saturday 10th December in Kirkburton Church. \nMore details to follow. 7pm concert \nChristmas starts here. \n 
URL:https://hadeedgeband.co.uk/engage/christmas-concert-at-kirkburton-church/
END:VEVENT
BEGIN:VEVENT
DTSTART;TZID=UTC:20221204T180000
DTEND;TZID=UTC:20221204T193000
DTSTAMP:20260423T124804
CREATED:20220926T120341Z
LAST-MODIFIED:20220926T125806Z
UID:2989-1670176800-1670182200@hadeedgeband.co.uk
SUMMARY:Carols at The Clothiers Thongsbridge
DESCRIPTION:Carols to bring in Christmas at The Clothiers Arms from 6pm
URL:https://hadeedgeband.co.uk/engage/carols-at-the-clothiers-thiongsbirdge/
END:VEVENT
BEGIN:VEVENT
DTSTART;TZID=UTC:20221125T180000
DTEND;TZID=UTC:20221127T180000
DTSTAMP:20260423T124804
CREATED:20220926T115855Z
LAST-MODIFIED:20220926T120241Z
UID:2983-1669399200-1669572000@hadeedgeband.co.uk
SUMMARY:National Coal Mining Museum - Wakefield 25th - 27th November
DESCRIPTION:The weekend’s events at The National Coal Mining Museum based just outside Wakefield commence on Friday 25th November \nConcert by Hade Edge Band with the arrival of Father Christmas at 645pm \n  \nSaturday 26th – small groups from Hade Edge playing from 130pm through to 5pm; small groups making lanterns etc all day \nSunday 27th As the lights come on and illuminate the wonderful backdrop of the mine Hade Edge Band will lead the procession of many local youngsters with lanterns and displays from Hope Pit down to the Pit Yard. A fantastic spectacle of Light.
URL:https://hadeedgeband.co.uk/engage/national-coal-mining-museum-wakefield-25th-27th-november/
END:VEVENT
BEGIN:VEVENT
DTSTART;TZID=UTC:20221113T103000
DTEND;TZID=UTC:20221113T123000
DTSTAMP:20260423T124804
CREATED:20220113T095239Z
LAST-MODIFIED:20220113T095239Z
UID:2905-1668335400-1668342600@hadeedgeband.co.uk
SUMMARY:Remembrance Sunday 2022
DESCRIPTION:Remembrance Sunday Parades will be held on Sunday 13th November in 2022 \nHade Edge  Band will once again lead the remembrance parade in Huddersfield Town centre at around 1020am. \nMore details to follow
URL:https://hadeedgeband.co.uk/engage/remembrance-sunday-2022/
LOCATION:Huddersfield Town Centre
END:VEVENT
BEGIN:VEVENT
DTSTART;TZID=UTC:20220930T190000
DTEND;TZID=UTC:20220930T210000
DTSTAMP:20260423T124804
CREATED:20220926T115502Z
LAST-MODIFIED:20220926T115502Z
UID:2981-1664564400-1664571600@hadeedgeband.co.uk
SUMMARY:Bavarian Night  Holmfirth
DESCRIPTION:Come and see our Bavarian group from Hade Edge performing at O’Briens Holmfirth on Friday 30th September
URL:https://hadeedgeband.co.uk/engage/bavarian-night-holmfirth/
END:VEVENT
BEGIN:VEVENT
DTSTART;TZID=UTC:20220924T190000
DTEND;TZID=UTC:20220924T220000
DTSTAMP:20260423T124804
CREATED:20220113T095033Z
LAST-MODIFIED:20220113T095033Z
UID:2903-1664046000-1664056800@hadeedgeband.co.uk
SUMMARY:Proms Concert 2022
DESCRIPTION:Once again the highly rated Proms Concert in the Holme Valley will take place on Saturday 24th September 2022 \nHade Edge Band will be joining with Honley Male Voice Choir to celebrate the Proms season 2022. \nFurther information in due course. \n 
URL:https://hadeedgeband.co.uk/engage/proms-concert-2022/
LOCATION:Holmfirth Civic Hall
END:VEVENT
BEGIN:VEVENT
DTSTART;TZID=UTC:20220911T143000
DTEND;TZID=UTC:20220911T170000
DTSTAMP:20260423T124804
CREATED:20220113T094817Z
LAST-MODIFIED:20220113T094817Z
UID:2901-1662906600-1662915600@hadeedgeband.co.uk
SUMMARY:Wetherby Band stand concert  Sunday 11th September 2022
DESCRIPTION:Once again Hade Edge band will be entertaining the crowds at this popular venue on Sunday September 11th 2022. \nAfternoon concerts at Wetherby Bandstand take place from May through to September every year. \nCome along and listen to Hade Edge Band on Sunday 11th September from 2;30pm
URL:https://hadeedgeband.co.uk/engage/wetherby-band-stand-concert-sunday-11th-september-2022/
LOCATION:Wetherby Band Stand
END:VEVENT
BEGIN:VEVENT
DTSTART;TZID=UTC:20220821T140000
DTEND;TZID=UTC:20220821T160000
DTSTAMP:20260423T124804
CREATED:20220219T150222Z
LAST-MODIFIED:20220219T150222Z
UID:2949-1661090400-1661097600@hadeedgeband.co.uk
SUMMARY:Bandstand Concert - Greenhead Park Huddersfield
DESCRIPTION:Once again the Friends of Greenhead Park Huddersfield have arranged a number of bandstand concerts during the summer of 2022. \nHade Edge Band will be entertaining the crowds from the bandstand on Sunday 21st August from 2pm\, \n 
URL:https://hadeedgeband.co.uk/engage/bandstand-concert-greenhead-park-huddersfield/
END:VEVENT
BEGIN:VEVENT
DTSTART;TZID=UTC:20220709T050000
DTEND;TZID=UTC:20220709T210000
DTSTAMP:20260423T124804
CREATED:20220113T094537Z
LAST-MODIFIED:20220113T094537Z
UID:2899-1657342800-1657400400@hadeedgeband.co.uk
SUMMARY:Durham Miners Gala 2022  Saturday 9th July
DESCRIPTION:Hade Edge Band will once again be heading to the North east on Saturday 9th July to be part of the above event. \nThe band will perform in the village of Sacriston prior to heading into Durham City to join the celebrations. \nA coach will be taking the band to the event. if you wish to join us please speak to Robert.
URL:https://hadeedgeband.co.uk/engage/durham-miners-gala-2022-saturday-9th-july/
LOCATION:Sacriston Village and Durham City Centre
END:VEVENT
BEGIN:VEVENT
DTSTART;TZID=UTC:20220703T120000
DTEND;TZID=UTC:20220703T180000
DTSTAMP:20260423T124804
CREATED:20220113T094314Z
LAST-MODIFIED:20220113T094314Z
UID:2897-1656849600-1656871200@hadeedgeband.co.uk
SUMMARY:Brighouse March Contest 2022
DESCRIPTION:The event is planned to take place on Sunday 3rd July in Brighouse Town centre from mid-day. \nUp to 26 bands compete in this prestigious event. \nHade Edge Band is expected to be one of these. \nCome along and enjoy a full afternoons entertainment.
URL:https://hadeedgeband.co.uk/engage/brighouse-march-contest-2022/
LOCATION:Brighouse Town Centre
END:VEVENT
BEGIN:VEVENT
DTSTART;TZID=UTC:20220702T140000
DTEND;TZID=UTC:20220702T170000
DTSTAMP:20260423T124804
CREATED:20220314T081222Z
LAST-MODIFIED:20220314T081222Z
UID:2952-1656770400-1656781200@hadeedgeband.co.uk
SUMMARY:Carlecotes Garden Party/Church Fayre
DESCRIPTION:Hade Edge Band will be performing at the above event on Saturday 2nd July 2022 from 2pm. \n 
URL:https://hadeedgeband.co.uk/engage/carlecotes-garden-party-church-fayre/
LOCATION:Carlecotes Church
END:VEVENT
BEGIN:VEVENT
DTSTART;TZID=UTC:20220625T193000
DTEND;TZID=UTC:20220625T213000
DTSTAMP:20260423T124804
CREATED:20220121T162557Z
LAST-MODIFIED:20220616T120943Z
UID:2930-1656185400-1656192600@hadeedgeband.co.uk
SUMMARY:Concert with Serenitas Vocal Harmony and Hade Edge Band
DESCRIPTION:Hade Edge Band and Serenitas Vocal Harmony Group will be holding a concert on Saturday June 25th 2022 \nConcert will commence at 7:30pm. \nVenue is St. Johns  (Cof E) Church. Wakefield. Post code WF1 2QU (near QEG’s Grammar school) \nTickets can be obtained by logging onto “ticket source”) £10 FOR ADULTS \nTickets can be purchased on the door at the church on the evening of the concert. \n 
URL:https://hadeedgeband.co.uk/engage/concert-with-serenitas-vocal-harmony-and-hade-edge-band/
LOCATION:St. Johns Church. Sandal
END:VEVENT
BEGIN:VEVENT
DTSTART;TZID=UTC:20220604T140000
DTEND;TZID=UTC:20220604T170000
DTSTAMP:20260423T124804
CREATED:20220219T150011Z
LAST-MODIFIED:20220219T150011Z
UID:2947-1654351200-1654362000@hadeedgeband.co.uk
SUMMARY:Platinum Jubilee Garden Party Saturday 4th June
DESCRIPTION:New Mill Church are holding a Jubilee celebration garden party on Saturday 4th June 2022 (afternoon) \nHade Edge Band will be there to entertain the visitors and guests. \n 
URL:https://hadeedgeband.co.uk/engage/platinum-jubilee-garden-party-saturday-4th-june/
END:VEVENT
BEGIN:VEVENT
DTSTART;TZID=UTC:20220602T200000
DTEND;TZID=UTC:20220602T220000
DTSTAMP:20260423T124804
CREATED:20220113T093339Z
LAST-MODIFIED:20220121T163427Z
UID:2886-1654200000-1654207200@hadeedgeband.co.uk
SUMMARY:To Celebrate the Queens PLATINUM Jubilee Year  THURSDAY 2ND JUNE - CLIFF REC
DESCRIPTION:Hade Edge Band have been invited to play at the Queens Platinum Jubilee Celebrations that are to take place up at Cliff Rec on the evening of Thursday 2nd June. The event will be attended by many organizations and music provided by Hade Edge Band \nThe event will commence at dusk. More details to follow \nThe lighting of the beacons across the UK will take place at 9:45pm with a piece of music arrange for the occasion – “Majesty”
URL:https://hadeedgeband.co.uk/engage/to-celebrate-the-queens-diamond-jubilee-year/
LOCATION:Holmfirth Cliff Jubilee Beacon\, Cliff Rd\, Holmfirth\, HD9 1UY\, United Kingdom
END:VEVENT
BEGIN:VEVENT
DTSTART;TZID=UTC:20220521T190000
DTEND;TZID=UTC:20220521T220000
DTSTAMP:20260423T124804
CREATED:20220113T093049Z
LAST-MODIFIED:20220113T093049Z
UID:2884-1653159600-1653170400@hadeedgeband.co.uk
SUMMARY:Concert in Holmfirth Civic Hall  Saturday 21st May 2022
DESCRIPTION:Hade Edge Band will be performing a concert with the Huddersfield Choral Youth Choir on Satuday May 21st in Holmfirth Civic Hall. \nThe concert is arranged by Thongsbridge Bowling Club to raise funds for their facilities down at Thongsbridge. \nTickets can be obtained from Holmfirth Civic Hall
URL:https://hadeedgeband.co.uk/engage/concert-in-holmfirth-civic-hall-saturday-21st-may-2022/
LOCATION:Holmfirth Civic Hall
END:VEVENT
BEGIN:VEVENT
DTSTART;TZID=UTC:20220508T140000
DTEND;TZID=UTC:20220508T170000
DTSTAMP:20260423T124804
CREATED:20220113T092748Z
LAST-MODIFIED:20220113T092748Z
UID:2881-1652018400-1652029200@hadeedgeband.co.uk
SUMMARY:Bandroom Concert - Slaithwaite Bandroom
DESCRIPTION:Hade Edge Band will be performing an afternoon concert at Slaithwaite Bandroom on Sunday 8th May 2022 \nAdmission payment on the door.
URL:https://hadeedgeband.co.uk/engage/bandroom-concert-slaithwaite-bandroom/
LOCATION:Slaithwaite Bandroom
END:VEVENT
BEGIN:VEVENT
DTSTART;TZID=UTC:20220423T190000
DTEND;TZID=UTC:20220423T220000
DTSTAMP:20260423T124804
CREATED:20220113T092503Z
LAST-MODIFIED:20220113T092503Z
UID:2879-1650740400-1650751200@hadeedgeband.co.uk
SUMMARY:Concert at Penistone Paramount Cinema
DESCRIPTION:A concert with Hade Edge Band and Penistone Ladies Choir will take place on Saturday 23rd April 2022 in Penistone Paramount Cinema. \nEvening concert starting at 7pm. \nTickets can be purchased through the box office of the Paramount. \n 
URL:https://hadeedgeband.co.uk/engage/concert-at-penistone-paramount-cinema/
LOCATION:Penistone Paramount
END:VEVENT
BEGIN:VEVENT
DTSTART;TZID=UTC:20220403T100000
DTEND;TZID=UTC:20220403T170000
DTSTAMP:20260423T124804
CREATED:20220113T092257Z
LAST-MODIFIED:20220113T092257Z
UID:2877-1648980000-1649005200@hadeedgeband.co.uk
SUMMARY:Holme Valley Contest 2022
DESCRIPTION:The 94th Holme Valley Contest will take place on Sunday 3rd April 2022 in Holmfirth Civic Hall. \nHade Edge Band will be entering the contest and will be playing during the afternoon. \nTickets on the door.
URL:https://hadeedgeband.co.uk/engage/holme-valley-contest-2022/
LOCATION:Holmfirth Civic Hall
END:VEVENT
BEGIN:VEVENT
DTSTART;TZID=UTC:20220306T093000
DTEND;TZID=UTC:20220306T140000
DTSTAMP:20260423T124804
CREATED:20220113T091956Z
LAST-MODIFIED:20220113T091956Z
UID:2875-1646559000-1646575200@hadeedgeband.co.uk
SUMMARY:Yorkshire Regional Championships 2022
DESCRIPTION:The above Championships take place in Huddersfield Town Hall on Saturday and Sunday 5th/6th March 2022. \nHade Edge Band are to play in the First Section of the Championships which will take place on Sunday 6th March \nfrom 930am onwards. There are 13 bands in the First Section and the results are expected to be announced around 2pm. \nTickets can be obtained from Monday 17th January through the box office at Kirklees Town Hall. \n 
URL:https://hadeedgeband.co.uk/engage/yorkshire-regional-championships-2022/
LOCATION:Huddersfield Town Hall
END:VEVENT
BEGIN:VEVENT
DTSTART;TZID=UTC:20211211T190000
DTEND;TZID=UTC:20211211T220000
DTSTAMP:20260423T124804
CREATED:20210107T165740Z
LAST-MODIFIED:20211022T133441Z
UID:2623-1639249200-1639260000@hadeedgeband.co.uk
SUMMARY:Hade Edge Band - Christmas Concert 2021
DESCRIPTION:Kirkburton Church has  been booked for the bands annual Christmas Concert gathering. \nHADE EDGE BAND CHRISTMAS CONCERT IN KIRKBURTON CHURCH 7PM SATURDAY 11TH DECEMBER. \nTickets are £8 and can be purchased on the door. \n  \n 
URL:https://hadeedgeband.co.uk/engage/hade-edge-band-christmas-concert-2021/
END:VEVENT
BEGIN:VEVENT
DTSTART;TZID=UTC:20211204T190000
DTEND;TZID=UTC:20211204T220000
DTSTAMP:20260423T124804
CREATED:20210224T162855Z
LAST-MODIFIED:20211022T133224Z
UID:2781-1638644400-1638655200@hadeedgeband.co.uk
SUMMARY:CHRISTMAS CONCERT WITH VOCAL EXPRESSION CHOIR
DESCRIPTION:Vocal Expression Choir are holding a Christmas Concert to which Hade Edge Band have been invited to perform at. \nIt will be on SATURDAY 4TH DDECEMBER 2021 . \nVenue   HOLMBRIDGE PARISH HALL\, Holme.Holmfirth \nCommencing at 7pm.  CONCERT HAS BEEN SHORTENED AND WILL TAST APPROX 1HOUR. \nTHERE WILL BE NO CHARGE FOR ADMISSION. \n  \n 
URL:https://hadeedgeband.co.uk/engage/christmas-concert-with-vocal-expression-choir/
LOCATION:Holmbridge Parish Hall
END:VEVENT
BEGIN:VEVENT
DTSTART;TZID=UTC:20211126T180000
DTEND;TZID=UTC:20211128T200000
DTSTAMP:20260423T124804
CREATED:20210927T130731Z
LAST-MODIFIED:20211022T133336Z
UID:2831-1637949600-1638129600@hadeedgeband.co.uk
SUMMARY:National Coal Mining Museum Wakefield - Christmas events
DESCRIPTION:The National Coal Mining Museum of England\, based at Middlestown Wakefield will be celebrating Christmas at an opening event weekend. \nSat 27th and Sun 28th November. \nHade Edge Band will be providing brass band music during this period from 1pm through to 5pm \nSanta’s Grotto can be visited – UNDERGROUND during each day of the event. \n  \nEveryone welcome\, especially the children so do come along an enjoy the events at the Museum.
URL:https://hadeedgeband.co.uk/engage/national-coal-mining-museum-wakefield-christmas-events/
END:VEVENT
BEGIN:VEVENT
DTSTART;TZID=UTC:20211114T103000
DTEND;TZID=UTC:20211114T123000
DTSTAMP:20260423T124804
CREATED:20210107T165615Z
LAST-MODIFIED:20210107T165615Z
UID:2621-1636885800-1636893000@hadeedgeband.co.uk
SUMMARY:Remembrance Sunday
DESCRIPTION:Remembrance Sunday in 2021 will take place on Sunday 14th November. \nThe parade will commence from Huddersfield Town Hall to St. Peters Church for a short service and return to the Town Hall. \nHade Edge Band will be proud to lead the procession. \nSUNDAY 14th NOVEMBER 1030am
URL:https://hadeedgeband.co.uk/engage/remembrance-sunday/
END:VEVENT
BEGIN:VEVENT
DTSTART;TZID=UTC:20211106T190000
DTEND;TZID=UTC:20211106T213000
DTSTAMP:20260423T124804
CREATED:20210107T165405Z
LAST-MODIFIED:20210801T082658Z
UID:2619-1636225200-1636234200@hadeedgeband.co.uk
SUMMARY:Anniversary Concert  CANCELLED
DESCRIPTION:Saturday 6th November will see Hade Edge Band join forces once again with our friends Bolsterstone MVC . \nConcert will take place on Saturday 6th November in Holmfirth Church. \nMore details to follow \nSADLY DUE TO THE CHOIR BEING UNABLE TO GET BACK TO NORMAL REHEARSALS THE 2021 EVENT HAS BEEN CANCELLED. \n 
URL:https://hadeedgeband.co.uk/engage/anniversary-concert/
END:VEVENT
BEGIN:VEVENT
DTSTART;TZID=UTC:20211023T193000
DTEND;TZID=UTC:20211023T220000
DTSTAMP:20260423T124804
CREATED:20210107T165225Z
LAST-MODIFIED:20210927T130359Z
UID:2617-1635017400-1635026400@hadeedgeband.co.uk
SUMMARY:Proms Concert  - Holmfirth
DESCRIPTION:Friends of Holme Valley Hospital are organising a Proms Concert. Hade Edge Band and Honley MVC \nHolmfirth Civic Hall.  7pm start \nTICKETS ARE NOW ON SALE FROM HOLMFIRTH CIVIC HALL OR ANY MEMBER OF THE FRIENDS OF \nHOLME VALLEY HOSPITAL.
URL:https://hadeedgeband.co.uk/engage/proms-concert-holmfirth/
END:VEVENT
BEGIN:VEVENT
DTSTART;TZID=UTC:20211001T190000
DTEND;TZID=UTC:20211001T213000
DTSTAMP:20260423T124804
CREATED:20210107T165043Z
LAST-MODIFIED:20210809T081604Z
UID:2615-1633114800-1633123800@hadeedgeband.co.uk
SUMMARY:Concert at Holmfirth Civic Hall with Choir - CANCELLED
DESCRIPTION:Concert organised by Thongsbridge Bowling Club will take place on Friday 1st October at the Civic Hall in Holmfirth \nFurther details to be announced in due course. \n  \nCONCERT CANCELLED FOR 2021. TO BE REARRANGED FOR A DATE IN OCTOBER 2022. \n 
URL:https://hadeedgeband.co.uk/engage/concert-at-holmfirth-civic-hall-with-choir/
END:VEVENT
BEGIN:VEVENT
DTSTART;TZID=UTC:20210918T173000
DTEND;TZID=UTC:20210918T193000
DTSTAMP:20260423T124804
CREATED:20210801T083255Z
LAST-MODIFIED:20210801T083255Z
UID:2823-1631986200-1631993400@hadeedgeband.co.uk
SUMMARY:HOLMFIRTH ARTS WEEK FESTIVAL  SATURDAY 18TH SEPTEMBER CONCERT
DESCRIPTION:As part of the Holmfirth Arts Festival 2021\, Hade Edge Band will be performing a concert in the Civic Hall Holmfirth \nThe concert will commence at 1730hrs and tickets can be obtained in advance through the Arts Festival contacts ro you \ncan pay on the door. \n 
URL:https://hadeedgeband.co.uk/engage/holmfirth-arts-week-festival-saturday-18th-september-concert/
END:VEVENT
BEGIN:VEVENT
DTSTART;TZID=UTC:20210912T140000
DTEND;TZID=UTC:20210912T163000
DTSTAMP:20260423T124804
CREATED:20210107T164902Z
LAST-MODIFIED:20210107T164902Z
UID:2613-1631455200-1631464200@hadeedgeband.co.uk
SUMMARY:Wetherby Band Stand
DESCRIPTION:Hade Edge Band will be performing an afternoon concert in the delightful grounds of the bandstand in Wetherby. \nAfternoon concert commencing from 2pm
URL:https://hadeedgeband.co.uk/engage/wetherby-band-stand-2/
END:VEVENT
BEGIN:VEVENT
DTSTART;TZID=UTC:20210911T190000
DTEND;TZID=UTC:20210911T220000
DTSTAMP:20260423T124804
CREATED:20210107T164710Z
LAST-MODIFIED:20210713T111132Z
UID:2611-1631386800-1631397600@hadeedgeband.co.uk
SUMMARY:Proms Concert - CANCELLED
DESCRIPTION:Hade Edge Band Proms concert will take place on Saturday 11th September at Shelley Church. The band will be joined by a local choir. \nMore information on this evening concert later in the year. \nTHIS CONCERT IS CANCELLED FOR 2020 AND WE HOPE TO PROVIDE A NEW DATE FOR THIS SOON.
URL:https://hadeedgeband.co.uk/engage/proms-concert/
END:VEVENT
BEGIN:VEVENT
DTSTART;TZID=UTC:20210911T130000
DTEND;TZID=UTC:20210911T160000
DTSTAMP:20260423T124804
CREATED:20210618T155440Z
LAST-MODIFIED:20210618T155440Z
UID:2804-1631365200-1631376000@hadeedgeband.co.uk
SUMMARY:Kirkburton Church Heritage Day Events. Saturday 11th September.
DESCRIPTION:Players from Hade Edge Band will be entertaining the visitors to Kirkburton Church Heritage Day during the afternoon of Saturday \n11th September. \nPlease come along and enjoy the Heritage of Kirkburton and enjoy some brass playing at the same time. \nAfternoon from 1pm. \n 
URL:https://hadeedgeband.co.uk/engage/kirkburton-church-heritage-day-events-saturday-11th-september/
END:VEVENT
END:VCALENDAR